BEGIN:VCALENDAR
VERSION:2.0
PRODID:-//Manor Township - ECPv6.15.20//NONSGML v1.0//EN
CALSCALE:GREGORIAN
METHOD:PUBLISH
X-WR-CALNAME:Manor Township
X-ORIGINAL-URL:https://manortownship.net
X-WR-CALDESC:Events for Manor Township
REFRESH-INTERVAL;VALUE=DURATION:PT1H
X-Robots-Tag:noindex
X-PUBLISHED-TTL:PT1H
BEGIN:VTIMEZONE
TZID:America/New_York
BEGIN:DAYLIGHT
TZOFFSETFROM:-0500
TZOFFSETTO:-0400
TZNAME:EDT
DTSTART:20180311T070000
END:DAYLIGHT
BEGIN:STANDARD
TZOFFSETFROM:-0400
TZOFFSETTO:-0500
TZNAME:EST
DTSTART:20181104T060000
END:STANDARD
BEGIN:DAYLIGHT
TZOFFSETFROM:-0500
TZOFFSETTO:-0400
TZNAME:EDT
DTSTART:20190310T070000
END:DAYLIGHT
BEGIN:STANDARD
TZOFFSETFROM:-0400
TZOFFSETTO:-0500
TZNAME:EST
DTSTART:20191103T060000
END:STANDARD
BEGIN:DAYLIGHT
TZOFFSETFROM:-0500
TZOFFSETTO:-0400
TZNAME:EDT
DTSTART:20200308T070000
END:DAYLIGHT
BEGIN:STANDARD
TZOFFSETFROM:-0400
TZOFFSETTO:-0500
TZNAME:EST
DTSTART:20201101T060000
END:STANDARD
END:VTIMEZONE
BEGIN:VEVENT
DTSTART;TZID=America/New_York:20190205T060000
DTEND;TZID=America/New_York:20190205T080000
DTSTAMP:20260420T032130
CREATED:20190204T232914Z
LAST-MODIFIED:20190204T232936Z
UID:10000347-1549346400-1549353600@manortownship.net
SUMMARY:Work Session to Discuss Potential Marijuana Ordinance
DESCRIPTION:Related
URL:https://manortownship.net/event/work-session-to-discuss-potential-marijuana-ordinance/
LOCATION:Manor Township Municipal Building\, 950 West Fairway Drive\, Lancaster\, PA\, 17603\, United States
GEO:40.0264075;-76.3654509
X-APPLE-STRUCTURED-LOCATION;VALUE=URI;X-ADDRESS=Manor Township Municipal Building 950 West Fairway Drive Lancaster PA 17603 United States;X-APPLE-RADIUS=500;X-TITLE=950 West Fairway Drive:geo:-76.3654509,40.0264075
END:VEVENT
END:VCALENDAR