BEGIN:VCALENDAR
VERSION:2.0
PRODID:-//Manor Township - ECPv6.15.20//NONSGML v1.0//EN
CALSCALE:GREGORIAN
METHOD:PUBLISH
X-WR-CALNAME:Manor Township
X-ORIGINAL-URL:https://manortownship.net
X-WR-CALDESC:Events for Manor Township
REFRESH-INTERVAL;VALUE=DURATION:PT1H
X-Robots-Tag:noindex
X-PUBLISHED-TTL:PT1H
BEGIN:VTIMEZONE
TZID:America/New_York
BEGIN:DAYLIGHT
TZOFFSETFROM:-0500
TZOFFSETTO:-0400
TZNAME:EDT
DTSTART:20140309T070000
END:DAYLIGHT
BEGIN:STANDARD
TZOFFSETFROM:-0400
TZOFFSETTO:-0500
TZNAME:EST
DTSTART:20141102T060000
END:STANDARD
BEGIN:DAYLIGHT
TZOFFSETFROM:-0500
TZOFFSETTO:-0400
TZNAME:EDT
DTSTART:20150308T070000
END:DAYLIGHT
BEGIN:STANDARD
TZOFFSETFROM:-0400
TZOFFSETTO:-0500
TZNAME:EST
DTSTART:20151101T060000
END:STANDARD
BEGIN:DAYLIGHT
TZOFFSETFROM:-0500
TZOFFSETTO:-0400
TZNAME:EDT
DTSTART:20160313T070000
END:DAYLIGHT
BEGIN:STANDARD
TZOFFSETFROM:-0400
TZOFFSETTO:-0500
TZNAME:EST
DTSTART:20161106T060000
END:STANDARD
END:VTIMEZONE
BEGIN:VEVENT
DTSTART;VALUE=DATE:20151224
DTEND;VALUE=DATE:20151226
DTSTAMP:20260421T221256
CREATED:20150820T232201Z
LAST-MODIFIED:20150820T232201Z
UID:10000001-1450983600-1451069999@manortownship.net
SUMMARY:Office Closed
DESCRIPTION:Closed for Christmas Day.
URL:https://manortownship.net/event/office-closed/
END:VEVENT
BEGIN:VEVENT
DTSTART;TZID=America/New_York:20151214T140000
DTEND;TZID=America/New_York:20151214T160000
DTSTAMP:20260421T221256
CREATED:20150904T191040Z
LAST-MODIFIED:20150904T191040Z
UID:10000022-1450101600-1450108800@manortownship.net
SUMMARY:Planning Commission
DESCRIPTION:This meeting has been cancelled.
URL:https://manortownship.net/event/planning-comm-3/
LOCATION:Manor Township Municipal Building\, 950 West Fairway Drive\, Lancaster\, PA\, 17603\, United States
GEO:40.0264075;-76.3654509
X-APPLE-STRUCTURED-LOCATION;VALUE=URI;X-ADDRESS=Manor Township Municipal Building 950 West Fairway Drive Lancaster PA 17603 United States;X-APPLE-RADIUS=500;X-TITLE=950 West Fairway Drive:geo:-76.3654509,40.0264075
END:VEVENT
BEGIN:VEVENT
DTSTART;TZID=America/New_York:20151205T040000
DTEND;TZID=America/New_York:20151205T070000
DTSTAMP:20260421T221256
CREATED:20150904T192108Z
LAST-MODIFIED:20150904T192108Z
UID:10000029-1449288000-1449298800@manortownship.net
SUMMARY:Compost
DESCRIPTION:$10 per cubic yard of compost.
URL:https://manortownship.net/event/compost-7/
LOCATION:Manor Township Compost Site\, 2783 Charlestown Road\, Lancaster\, 17603
END:VEVENT
BEGIN:VEVENT
DTSTART;TZID=America/New_York:20151202T140000
DTEND;TZID=America/New_York:20151202T160000
DTSTAMP:20260421T221256
CREATED:20150904T190620Z
LAST-MODIFIED:20150904T190620Z
UID:10000020-1449064800-1449072000@manortownship.net
SUMMARY:Zoning Hearing
DESCRIPTION:Agenda
URL:https://manortownship.net/event/office-closed-5/
LOCATION:Manor Township Municipal Building\, 950 West Fairway Drive\, Lancaster\, PA\, 17603\, United States
GEO:40.0264075;-76.3654509
X-APPLE-STRUCTURED-LOCATION;VALUE=URI;X-ADDRESS=Manor Township Municipal Building 950 West Fairway Drive Lancaster PA 17603 United States;X-APPLE-RADIUS=500;X-TITLE=950 West Fairway Drive:geo:-76.3654509,40.0264075
END:VEVENT
BEGIN:VEVENT
DTSTART;VALUE=DATE:20151126
DTEND;VALUE=DATE:20151128
DTSTAMP:20260421T221256
CREATED:20151021T152315Z
LAST-MODIFIED:20151021T152315Z
UID:10000033-1448564400-1448650799@manortownship.net
SUMMARY:Office Closed
DESCRIPTION:
URL:https://manortownship.net/event/office-closed-6/
END:VEVENT
BEGIN:VEVENT
DTSTART;VALUE=DATE:20151125
DTEND;VALUE=DATE:20151127
DTSTAMP:20260421T221256
CREATED:20150904T190546Z
LAST-MODIFIED:20150904T190546Z
UID:10000019-1448478000-1448564399@manortownship.net
SUMMARY:Office Closed
DESCRIPTION:Closed in observance of Thanksgiving.
URL:https://manortownship.net/event/office-closed-4/
END:VEVENT
BEGIN:VEVENT
DTSTART;TZID=America/New_York:20151125T033000
DTEND;TZID=America/New_York:20151125T043000
DTSTAMP:20260421T221256
CREATED:20150904T190327Z
LAST-MODIFIED:20150904T190327Z
UID:10000018-1448422200-1448425800@manortownship.net
SUMMARY:Traffic Comm
DESCRIPTION:
URL:https://manortownship.net/event/planning-comm-2/
LOCATION:Manor Township Municipal Building\, 950 West Fairway Drive\, Lancaster\, PA\, 17603\, United States
GEO:40.0264075;-76.3654509
X-APPLE-STRUCTURED-LOCATION;VALUE=URI;X-ADDRESS=Manor Township Municipal Building 950 West Fairway Drive Lancaster PA 17603 United States;X-APPLE-RADIUS=500;X-TITLE=950 West Fairway Drive:geo:-76.3654509,40.0264075
END:VEVENT
BEGIN:VEVENT
DTSTART;TZID=America/New_York:20151121T040000
DTEND;TZID=America/New_York:20151121T070000
DTSTAMP:20260421T221256
CREATED:20150904T191951Z
LAST-MODIFIED:20150904T191951Z
UID:10000028-1448078400-1448089200@manortownship.net
SUMMARY:Compost
DESCRIPTION:$10 per cubic yard of compost.
URL:https://manortownship.net/event/compost-6/
LOCATION:Manor Township Compost Site\, 2783 Charlestown Road\, Lancaster\, 17603
END:VEVENT
BEGIN:VEVENT
DTSTART;TZID=America/New_York:20151111T140000
DTEND;TZID=America/New_York:20151111T160000
DTSTAMP:20260421T221256
CREATED:20150904T190244Z
LAST-MODIFIED:20150904T190244Z
UID:10000017-1447250400-1447257600@manortownship.net
SUMMARY:Zoning Hearing
DESCRIPTION:
URL:https://manortownship.net/event/zoning-hearing-2/
LOCATION:Manor Township Municipal Building\, 950 West Fairway Drive\, Lancaster\, PA\, 17603\, United States
GEO:40.0264075;-76.3654509
X-APPLE-STRUCTURED-LOCATION;VALUE=URI;X-ADDRESS=Manor Township Municipal Building 950 West Fairway Drive Lancaster PA 17603 United States;X-APPLE-RADIUS=500;X-TITLE=950 West Fairway Drive:geo:-76.3654509,40.0264075
END:VEVENT
BEGIN:VEVENT
DTSTART;TZID=America/New_York:20151111T100000
DTEND;TZID=America/New_York:20151111T130000
DTSTAMP:20260421T221256
CREATED:20151021T152253Z
LAST-MODIFIED:20151021T152253Z
UID:10000032-1447236000-1447246800@manortownship.net
SUMMARY:Compost
DESCRIPTION:$10 per cubic yard of compost.
URL:https://manortownship.net/event/compost/
LOCATION:Manor Township Compost Site\, 2783 Charlestown Road\, Lancaster\, 17603
END:VEVENT
BEGIN:VEVENT
DTSTART;TZID=America/New_York:20151109T140000
DTEND;TZID=America/New_York:20151109T160000
DTSTAMP:20260421T221256
CREATED:20151021T151640Z
LAST-MODIFIED:20151021T151640Z
UID:10000031-1447077600-1447084800@manortownship.net
SUMMARY:Planning Comm
DESCRIPTION:Agenda
URL:https://manortownship.net/event/planning-comm-4/
END:VEVENT
BEGIN:VEVENT
DTSTART;TZID=America/New_York:20151107T040000
DTEND;TZID=America/New_York:20151107T070000
DTSTAMP:20260421T221256
CREATED:20150904T191902Z
LAST-MODIFIED:20150904T191902Z
UID:10000027-1446868800-1446879600@manortownship.net
SUMMARY:Compost
DESCRIPTION:$10 per cubic yard of compost.
URL:https://manortownship.net/event/compost-5/
LOCATION:Manor Township Municipal Building\, 950 West Fairway Drive\, Lancaster\, PA\, 17603\, United States
GEO:40.0264075;-76.3654509
X-APPLE-STRUCTURED-LOCATION;VALUE=URI;X-ADDRESS=Manor Township Municipal Building 950 West Fairway Drive Lancaster PA 17603 United States;X-APPLE-RADIUS=500;X-TITLE=950 West Fairway Drive:geo:-76.3654509,40.0264075
END:VEVENT
BEGIN:VEVENT
DTSTART;TZID=America/New_York:20151105T140000
DTEND;TZID=America/New_York:20151105T160000
DTSTAMP:20260421T221256
CREATED:20150904T185907Z
LAST-MODIFIED:20150904T185907Z
UID:10000015-1446732000-1446739200@manortownship.net
SUMMARY:Supervisors
DESCRIPTION:  \n  \n  \nSupervisors Regular Meeting Agenda \n  \nNovember 5\, 2015                                                                                 Time: 7:00pm \n  \n\nCall to Order\nApprove the Previous Month Minutes\nApprove the Financial Report and Accounts Payable\nSolicitors Report\nPublic Comment\nOld Business\n\nCodification Project Update and Zoning/Ordinance Changes\nAdoption of Two Ordinances: Open Container and Disruptive Conduct\n\n\n\nRecommended Motion- Motion to accept Ordinance #2-2015\, known as Open Alcoholic Beverage Container Ordinance\, and #3-2015\, known as the Disruptive Conduct Ordinance. \n\nNew Business\n\nDoug Funk Storm Water Agreement\n\n\n\nRecommended Motion- Motion to accept the storm water management agreement based on Rettew’s review letter dated October 13\, 2015. \n\nManor Township Infrastructure Study\n\nRecommended Motion- Motion to accept the infrastructure study. \n\n2016 Summary Budget Presentation\nLine of Credit Reduction- Wood’s Edge\n\nRecommended Motion- Motion to reduce the letter of credit by $488\,278.64 leaving a remaining balance of $192\,075.36. \n\nPADEP Letter to Transcontinental Gas Pipe Line Co.\nAct 14 Notification- Atlantic Sunrise Project\nAct 14 Notification- The Barley Farms\nAct 14 Notification- JV# 283\, State Route 3032 Section 000\n\n\nTraining Approvals\n\nPolice- Reid Technique of Interviewing and Interrogation\n\n\nTraffic Commission\nPolice Report\nPublic Works Director Report\nTownship Manager’s Report\n\nMS4 Update & Training\n\n\nLIMC Report\nBlue Rock Fire Rescue Report\nBuilding Permit Report\nAdjourn
URL:https://manortownship.net/event/supervisors-3/
LOCATION:Manor Township Municipal Building\, 950 West Fairway Drive\, Lancaster\, PA\, 17603\, United States
GEO:40.0264075;-76.3654509
X-APPLE-STRUCTURED-LOCATION;VALUE=URI;X-ADDRESS=Manor Township Municipal Building 950 West Fairway Drive Lancaster PA 17603 United States;X-APPLE-RADIUS=500;X-TITLE=950 West Fairway Drive:geo:-76.3654509,40.0264075
END:VEVENT
BEGIN:VEVENT
DTSTART;TZID=America/New_York:20151030T140000
DTEND;TZID=America/New_York:20151030T160000
DTSTAMP:20260421T221256
CREATED:20150904T190022Z
LAST-MODIFIED:20150904T190022Z
UID:10000016-1446213600-1446220800@manortownship.net
SUMMARY:Trick or Treat
DESCRIPTION:
URL:https://manortownship.net/event/election-day/
END:VEVENT
BEGIN:VEVENT
DTSTART;TZID=America/New_York:20151028T110000
DTEND;TZID=America/New_York:20151028T140000
DTSTAMP:20260421T221256
CREATED:20150904T192508Z
LAST-MODIFIED:20150904T192508Z
UID:10000030-1446030000-1446040800@manortownship.net
SUMMARY:Compost
DESCRIPTION:$10 per cubic yard of compost.
URL:https://manortownship.net/event/compost-8/
LOCATION:Manor Township Compost Site\, 2783 Charlestown Road\, Lancaster\, 17603
END:VEVENT
BEGIN:VEVENT
DTSTART;TZID=America/New_York:20151028T043000
DTEND;TZID=America/New_York:20151028T053000
DTSTAMP:20260421T221256
CREATED:20150828T130427Z
LAST-MODIFIED:20150828T130427Z
UID:10000013-1446006600-1446010200@manortownship.net
SUMMARY:Traffic Comm-Cancelled
DESCRIPTION:Cancelled – No business before the Commission.
URL:https://manortownship.net/event/traffic-comm-2/
LOCATION:Manor Township Municipal Building\, 950 West Fairway Drive\, Lancaster\, PA\, 17603\, United States
GEO:40.0264075;-76.3654509
X-APPLE-STRUCTURED-LOCATION;VALUE=URI;X-ADDRESS=Manor Township Municipal Building 950 West Fairway Drive Lancaster PA 17603 United States;X-APPLE-RADIUS=500;X-TITLE=950 West Fairway Drive:geo:-76.3654509,40.0264075
END:VEVENT
BEGIN:VEVENT
DTSTART;TZID=America/New_York:20151026T150000
DTEND;TZID=America/New_York:20151026T160000
DTSTAMP:20260421T221256
CREATED:20150904T185750Z
LAST-MODIFIED:20150904T185750Z
UID:10000014-1445871600-1445875200@manortownship.net
SUMMARY:Park & Rec-Cancelled
DESCRIPTION:Meeting has been cancelled as there is no business before the Commission.
URL:https://manortownship.net/event/park-rec/
LOCATION:Manor Township Municipal Building\, 950 West Fairway Drive\, Lancaster\, PA\, 17603\, United States
GEO:40.0264075;-76.3654509
X-APPLE-STRUCTURED-LOCATION;VALUE=URI;X-ADDRESS=Manor Township Municipal Building 950 West Fairway Drive Lancaster PA 17603 United States;X-APPLE-RADIUS=500;X-TITLE=950 West Fairway Drive:geo:-76.3654509,40.0264075
END:VEVENT
BEGIN:VEVENT
DTSTART;TZID=America/New_York:20151017T050000
DTEND;TZID=America/New_York:20151017T080000
DTSTAMP:20260421T221256
CREATED:20150904T191715Z
LAST-MODIFIED:20150904T191715Z
UID:10000026-1445058000-1445068800@manortownship.net
SUMMARY:Compost
DESCRIPTION:$10 per cubic yard of compost.
URL:https://manortownship.net/event/compost-4/
LOCATION:Manor Township Compost Site\, 2783 Charlestown Road\, Lancaster\, 17603
END:VEVENT
BEGIN:VEVENT
DTSTART;TZID=America/New_York:20151013T150000
DTEND;TZID=America/New_York:20151013T170000
DTSTAMP:20260421T221256
CREATED:20150828T125636Z
LAST-MODIFIED:20150828T125636Z
UID:10000012-1444748400-1444755600@manortownship.net
SUMMARY:Planning Comm
DESCRIPTION:Agenda \n 
URL:https://manortownship.net/event/office-closed-3/
LOCATION:Manor Township Municipal Building\, 950 West Fairway Drive\, Lancaster\, PA\, 17603\, United States
GEO:40.0264075;-76.3654509
X-APPLE-STRUCTURED-LOCATION;VALUE=URI;X-ADDRESS=Manor Township Municipal Building 950 West Fairway Drive Lancaster PA 17603 United States;X-APPLE-RADIUS=500;X-TITLE=950 West Fairway Drive:geo:-76.3654509,40.0264075
END:VEVENT
BEGIN:VEVENT
DTSTART;TZID=America/New_York:20151007T150000
DTEND;TZID=America/New_York:20151007T150000
DTSTAMP:20260421T221256
CREATED:20150828T125421Z
LAST-MODIFIED:20150828T125421Z
UID:10000011-1444230000-1444230000@manortownship.net
SUMMARY:Zoning Hearing - Cancelled
DESCRIPTION:
URL:https://manortownship.net/event/zoning-hearing/
LOCATION:Manor Township Municipal Building\, 950 West Fairway Drive\, Lancaster\, PA\, 17603\, United States
GEO:40.0264075;-76.3654509
X-APPLE-STRUCTURED-LOCATION;VALUE=URI;X-ADDRESS=Manor Township Municipal Building 950 West Fairway Drive Lancaster PA 17603 United States;X-APPLE-RADIUS=500;X-TITLE=950 West Fairway Drive:geo:-76.3654509,40.0264075
END:VEVENT
BEGIN:VEVENT
DTSTART;TZID=America/New_York:20151005T150000
DTEND;TZID=America/New_York:20151005T170000
DTSTAMP:20260421T221256
CREATED:20150828T125038Z
LAST-MODIFIED:20150828T125038Z
UID:10000010-1444057200-1444064400@manortownship.net
SUMMARY:Supervisors
DESCRIPTION:Supervisors Regular Meeting Agenda \nSeptember 8\, 2015                                                                               Time: 7:00pm \n  \n\nCall to Order\nApprove the Previous Month Minutes\nApprove the Financial Report and Accounts Payable\nSolicitors Report\nPublic Comment\nOld Business\n\nCodification Project Update and Zoning/Ordinance Changes\nSALDO Action Item- Signature Personal Care and Memory Care\nRecommended Motion- Motion to approve the Final Land Development Plan of SDR Development\, Inc.\nConsideration of Two Ordinances: Open Container and Disruptive Conduct\n\n\nNew Business\n\nDombach Text Amendment\nRecommended Motion- Motion to accept the proposed text amendment and forward to Manor Township Planning Commission\, Lancaster County Planning Commission\, staff\, solicitor and engineer for comment.\nBrunswick Farm Apartments Reduction of Financial Security\nRecommended Motion- Motion to approve a reduction to the letter of credit from Brunswick Farm Apartment in the amount of $521\,633.00 reducing the letter of credit to $544\,181.00.\nTurkey Hill Performance Bond Reduction\nRecommended Motion- Motion to approve a reduction to the performance bond of Turkey Hill\, L.P in the amount of $2\,111\,420.21 releasing the entire amount of the letter of credit.\nService Agreement with LASA\nRecommended Motion- Motion to approve entering into five year agreement with LASA to provide sewer services for Manor Township.\nLancaster County Conservation District MOU\nNotice of Ag Security Area- McCreight & Heisey\nRecommended Motion- Motion to accept the McCreight and Heisey farm into the Ag Security Area.\nNotice of Ag Security Area- Sensenig\nRecommended Motion- Motion to accept the Sensenig farm into the Ag Security Area.\nAct 14 Notification- JV#259\, State Route 0462 Section 000\nTransfer of Funds from Capital to General\nRecommended Motion- Motion to transfer the budgeted amount of $575\,000 from the Capital to the General Fund.\nProposed Millersville Borough Official Map\n\n\nTraining Approvals\n\nLCATS Annual Convention\n\n\nTraffic Commission\nPolice Report\nPublic Works Director Report\nTownship Manager’s Report\n\nMS4 Update & Training\nSusquehanna Municipal Trust Award\n\n\nLIMC Report\nBlue Rock Fire Rescue Report\nBuilding Permit Report\nExecutive Session\nAdjourn
URL:https://manortownship.net/event/supervisors-2/
LOCATION:Manor Township Municipal Building\, 950 West Fairway Drive\, Lancaster\, PA\, 17603\, United States
GEO:40.0264075;-76.3654509
X-APPLE-STRUCTURED-LOCATION;VALUE=URI;X-ADDRESS=Manor Township Municipal Building 950 West Fairway Drive Lancaster PA 17603 United States;X-APPLE-RADIUS=500;X-TITLE=950 West Fairway Drive:geo:-76.3654509,40.0264075
END:VEVENT
BEGIN:VEVENT
DTSTART;TZID=America/New_York:20151003T050000
DTEND;TZID=America/New_York:20151003T080000
DTSTAMP:20260421T221256
CREATED:20150904T191551Z
LAST-MODIFIED:20150904T191551Z
UID:10000025-1443848400-1443859200@manortownship.net
SUMMARY:Compost
DESCRIPTION:$10 per cubic yard of compost.
URL:https://manortownship.net/event/compost-3/
LOCATION:Manor Township Compost Site\, 2783 Charlestown Road\, Lancaster\, 17603
END:VEVENT
BEGIN:VEVENT
DTSTART;TZID=America/New_York:20150930T043000
DTEND;TZID=America/New_York:20150930T053000
DTSTAMP:20260421T221256
CREATED:20150828T124828Z
LAST-MODIFIED:20150828T124828Z
UID:10000009-1443587400-1443591000@manortownship.net
SUMMARY:Traffic Comm - Cancelled
DESCRIPTION:
URL:https://manortownship.net/event/traffic-comm/
LOCATION:Manor Township Municipal Building\, 950 West Fairway Drive\, Lancaster\, PA\, 17603\, United States
GEO:40.0264075;-76.3654509
X-APPLE-STRUCTURED-LOCATION;VALUE=URI;X-ADDRESS=Manor Township Municipal Building 950 West Fairway Drive Lancaster PA 17603 United States;X-APPLE-RADIUS=500;X-TITLE=950 West Fairway Drive:geo:-76.3654509,40.0264075
END:VEVENT
BEGIN:VEVENT
DTSTART;TZID=America/New_York:20150926T050000
DTEND;TZID=America/New_York:20150926T080000
DTSTAMP:20260421T221256
CREATED:20150904T191503Z
LAST-MODIFIED:20150904T191503Z
UID:10000024-1443243600-1443254400@manortownship.net
SUMMARY:Compost
DESCRIPTION:$10 per cubic yard of compost.
URL:https://manortownship.net/event/compost-2/
LOCATION:Manor Township Compost Site\, 2783 Charlestown Road\, Lancaster\, 17603
END:VEVENT
BEGIN:VEVENT
DTSTART;TZID=America/New_York:20150914T150000
DTEND;TZID=America/New_York:20150914T170000
DTSTAMP:20260421T221256
CREATED:20150828T123412Z
LAST-MODIFIED:20150828T123412Z
UID:10000008-1442242800-1442250000@manortownship.net
SUMMARY:Planning Commission
DESCRIPTION:Agenda
URL:https://manortownship.net/event/planning-comm/
LOCATION:Manor Township Municipal Building\, 950 West Fairway Drive\, Lancaster\, PA\, 17603\, United States
GEO:40.0264075;-76.3654509
X-APPLE-STRUCTURED-LOCATION;VALUE=URI;X-ADDRESS=Manor Township Municipal Building 950 West Fairway Drive Lancaster PA 17603 United States;X-APPLE-RADIUS=500;X-TITLE=950 West Fairway Drive:geo:-76.3654509,40.0264075
END:VEVENT
BEGIN:VEVENT
DTSTART;TZID=America/New_York:20150908T150000
DTEND;TZID=America/New_York:20150908T170000
DTSTAMP:20260421T221256
CREATED:20150828T122234Z
LAST-MODIFIED:20150828T122234Z
UID:10000007-1441724400-1441731600@manortownship.net
SUMMARY:Supervisors
DESCRIPTION:Supervisors Regular Meeting Agenda \n\nCall to Order\nApprove the Previous Month Minutes\nApprove the Financial Report and Accounts Payable\nSolicitors Report\nPublic Comment\nOld Business\n\nCode Project Update\nAtlantic Sunrise Project Floodplain Analysis\n\n\nNew Business\n\nArmstrong Rezoning Petition\n\nArmstrong Conceptual Plan\n\n\nSALDO Briefing Item- Signature Personal Care and Memory Care\n\nFee in Lieu of Parkland Dedication.\nRecommended Motion: Motion to approve the fee in lieu of park dedication of proposed by Caroline Hoffer’s letter dated August 14\, 2015.\n\n\nResolution 10-2015- Street Dedication of Rocky Knob Way\nRecommended Motion: Motion to approve Resolution 10-2015 accepting dedication of Rocky Knob Way.\nStorm Water Agreement- LASA\nRecommended Motion: Motion to approve the storm water agreement as presented.\nWoods Edge Phase 4 Changes\nMotion:\nAdoption of the 2016 MMO\nRecommended Motion: Motion to accept the MMO’s as presented.\nNPDES Permit Renewal- Jay Bleacher\nAct 14 Notification- Funk’s Preliminary Plan\nHiring of Part Time Police Secretary\nRecommended Motion: Motion to hire LeAnn Kramer as a Part Time Police Secretary.\n\n\nTraining Approvals\n\nPolice Department\n\nHow to Become a Better Communicator\nRecommended Motion: Motion to one police secretary to the How to Become a Better Communicator seminar.\n\n\n\n\nTraffic Commission\nPolice Report\n\nConsideration of two ordinances: Open Container and Disruptive Conduct\n\n\nPublic Works Director Report\nTownship Manager’s Report\n\nMS4\n\nPAG-13 General Permit Approval\n\n\n\n\nLIMC Report\nBlue Rock Fire Rescue Report\n\n2016 Budget\n\n\nBuilding Permit Report\nExecutive Session- Legal matter.\nAdjourn
URL:https://manortownship.net/event/supervisors/
LOCATION:Manor Township Municipal Building\, 950 West Fairway Drive\, Lancaster\, PA\, 17603\, United States
GEO:40.0264075;-76.3654509
X-APPLE-STRUCTURED-LOCATION;VALUE=URI;X-ADDRESS=Manor Township Municipal Building 950 West Fairway Drive Lancaster PA 17603 United States;X-APPLE-RADIUS=500;X-TITLE=950 West Fairway Drive:geo:-76.3654509,40.0264075
END:VEVENT
BEGIN:VEVENT
DTSTART;VALUE=DATE:20150906
DTEND;VALUE=DATE:20150908
DTSTAMP:20260421T221256
CREATED:20150828T122118Z
LAST-MODIFIED:20150828T122118Z
UID:10000006-1441569600-1441655999@manortownship.net
SUMMARY:Office Closed
DESCRIPTION:Closed in observance of Labor Day.
URL:https://manortownship.net/event/office-closed-2/
END:VEVENT
BEGIN:VEVENT
DTSTART;TZID=America/New_York:20150902T150000
DTEND;TZID=America/New_York:20150902T170000
DTSTAMP:20260421T221256
CREATED:20150828T121924Z
LAST-MODIFIED:20150828T121924Z
UID:10000002-1441206000-1441213200@manortownship.net
SUMMARY:ZH - Cancelled
DESCRIPTION:There are no applications before the Board.
URL:https://manortownship.net/event/zh-cancelled/
LOCATION:Manor Township Municipal Building\, 950 West Fairway Drive\, Lancaster\, PA\, 17603\, United States
GEO:40.0264075;-76.3654509
X-APPLE-STRUCTURED-LOCATION;VALUE=URI;X-ADDRESS=Manor Township Municipal Building 950 West Fairway Drive Lancaster PA 17603 United States;X-APPLE-RADIUS=500;X-TITLE=950 West Fairway Drive:geo:-76.3654509,40.0264075
END:VEVENT
END:VCALENDAR