BEGIN:VCALENDAR
VERSION:2.0
PRODID:-//Manor Township - ECPv6.15.20//NONSGML v1.0//EN
CALSCALE:GREGORIAN
METHOD:PUBLISH
X-WR-CALNAME:Manor Township
X-ORIGINAL-URL:https://manortownship.net
X-WR-CALDESC:Events for Manor Township
REFRESH-INTERVAL;VALUE=DURATION:PT1H
X-Robots-Tag:noindex
X-PUBLISHED-TTL:PT1H
BEGIN:VTIMEZONE
TZID:America/New_York
BEGIN:DAYLIGHT
TZOFFSETFROM:-0500
TZOFFSETTO:-0400
TZNAME:EDT
DTSTART:20140309T070000
END:DAYLIGHT
BEGIN:STANDARD
TZOFFSETFROM:-0400
TZOFFSETTO:-0500
TZNAME:EST
DTSTART:20141102T060000
END:STANDARD
BEGIN:DAYLIGHT
TZOFFSETFROM:-0500
TZOFFSETTO:-0400
TZNAME:EDT
DTSTART:20150308T070000
END:DAYLIGHT
BEGIN:STANDARD
TZOFFSETFROM:-0400
TZOFFSETTO:-0500
TZNAME:EST
DTSTART:20151101T060000
END:STANDARD
BEGIN:DAYLIGHT
TZOFFSETFROM:-0500
TZOFFSETTO:-0400
TZNAME:EDT
DTSTART:20160313T070000
END:DAYLIGHT
BEGIN:STANDARD
TZOFFSETFROM:-0400
TZOFFSETTO:-0500
TZNAME:EST
DTSTART:20161106T060000
END:STANDARD
BEGIN:DAYLIGHT
TZOFFSETFROM:-0500
TZOFFSETTO:-0400
TZNAME:EDT
DTSTART:20170312T070000
END:DAYLIGHT
BEGIN:STANDARD
TZOFFSETFROM:-0400
TZOFFSETTO:-0500
TZNAME:EST
DTSTART:20171105T060000
END:STANDARD
END:VTIMEZONE
BEGIN:VEVENT
DTSTART;TZID=America/New_York:20160409T050000
DTEND;TZID=America/New_York:20160409T080000
DTSTAMP:20260421T193022
CREATED:20151231T160104Z
LAST-MODIFIED:20151231T160104Z
UID:10000054-1460178000-1460188800@manortownship.net
SUMMARY:Compost Available
DESCRIPTION:
URL:https://manortownship.net/event/compost-available/
LOCATION:Manor Township Compost Site\, 2783 Charlestown Road\, Lancaster\, 17603
END:VEVENT
BEGIN:VEVENT
DTSTART;TZID=America/New_York:20160406T190000
DTEND;TZID=America/New_York:20160406T210000
DTSTAMP:20260421T193022
CREATED:20151231T155717Z
LAST-MODIFIED:20151231T155717Z
UID:10000052-1459969200-1459976400@manortownship.net
SUMMARY:Zoning Hearing
DESCRIPTION:Agenda
URL:https://manortownship.net/event/zoning-hearing-6/
LOCATION:Manor Township Municipal Building\, 950 West Fairway Drive\, Lancaster\, PA\, 17603\, United States
GEO:40.0264075;-76.3654509
X-APPLE-STRUCTURED-LOCATION;VALUE=URI;X-ADDRESS=Manor Township Municipal Building 950 West Fairway Drive Lancaster PA 17603 United States;X-APPLE-RADIUS=500;X-TITLE=950 West Fairway Drive:geo:-76.3654509,40.0264075
END:VEVENT
BEGIN:VEVENT
DTSTART;TZID=America/New_York:20160404T150000
DTEND;TZID=America/New_York:20160404T170000
DTSTAMP:20260421T193022
CREATED:20151231T155516Z
LAST-MODIFIED:20151231T155516Z
UID:10000051-1459782000-1459789200@manortownship.net
SUMMARY:Supervisors Meeting
DESCRIPTION:
URL:https://manortownship.net/event/supervisors-meeting-2/
LOCATION:Manor Township Municipal Building\, 950 West Fairway Drive\, Lancaster\, PA\, 17603\, United States
GEO:40.0264075;-76.3654509
X-APPLE-STRUCTURED-LOCATION;VALUE=URI;X-ADDRESS=Manor Township Municipal Building 950 West Fairway Drive Lancaster PA 17603 United States;X-APPLE-RADIUS=500;X-TITLE=950 West Fairway Drive:geo:-76.3654509,40.0264075
END:VEVENT
BEGIN:VEVENT
DTSTART;TZID=America/New_York:20160330T150000
DTEND;TZID=America/New_York:20160330T180000
DTSTAMP:20260421T193022
CREATED:20160314T133555Z
LAST-MODIFIED:20160314T133555Z
UID:10000102-1459350000-1459360800@manortownship.net
SUMMARY:Compost 3-6pm
DESCRIPTION:
URL:https://manortownship.net/event/compost-3-6pm/
LOCATION:PA
END:VEVENT
BEGIN:VEVENT
DTSTART;TZID=America/New_York:20160330T083000
DTEND;TZID=America/New_York:20160330T090000
DTSTAMP:20260421T193022
CREATED:20151217T150038Z
LAST-MODIFIED:20151217T150038Z
UID:10000049-1459326600-1459328400@manortownship.net
SUMMARY:Traffic Comm-Cancelled
DESCRIPTION:No business before the Commission.
URL:https://manortownship.net/event/traffic-commission-2/
LOCATION:PA
END:VEVENT
BEGIN:VEVENT
DTSTART;VALUE=DATE:20160324
DTEND;VALUE=DATE:20160326
DTSTAMP:20260421T193022
CREATED:20151217T150134Z
LAST-MODIFIED:20151217T150134Z
UID:10000050-1458849600-1458935999@manortownship.net
SUMMARY:Office Closed
DESCRIPTION:Closed for Good Friday
URL:https://manortownship.net/event/office-closed-8/
LOCATION:PA
END:VEVENT
BEGIN:VEVENT
DTSTART;TZID=America/New_York:20160314T190000
DTEND;TZID=America/New_York:20160314T210000
DTSTAMP:20260421T193022
CREATED:20151217T145952Z
LAST-MODIFIED:20151217T145952Z
UID:10000048-1457982000-1457989200@manortownship.net
SUMMARY:Planning Commission
DESCRIPTION:Agenda
URL:https://manortownship.net/event/planning-commission-2/
LOCATION:PA
END:VEVENT
BEGIN:VEVENT
DTSTART;TZID=America/New_York:20160302T190000
DTEND;TZID=America/New_York:20160302T210000
DTSTAMP:20260421T193022
CREATED:20151217T145914Z
LAST-MODIFIED:20151217T145914Z
UID:10000047-1456945200-1456952400@manortownship.net
SUMMARY:Zoning Hearing
DESCRIPTION:Agenda
URL:https://manortownship.net/event/zoning-hearing-5/
LOCATION:PA
END:VEVENT
BEGIN:VEVENT
DTSTART;TZID=America/New_York:20160224T083000
DTEND;TZID=America/New_York:20160224T090000
DTSTAMP:20260421T193022
CREATED:20151217T145456Z
LAST-MODIFIED:20151217T145456Z
UID:10000045-1456302600-1456304400@manortownship.net
SUMMARY:Traffic Commission-Cancelled
DESCRIPTION:Cancelled – No Business before the Commission
URL:https://manortownship.net/event/traffic-commission/
LOCATION:PA
END:VEVENT
BEGIN:VEVENT
DTSTART;VALUE=DATE:20160214
DTEND;VALUE=DATE:20160216
DTSTAMP:20260421T193022
CREATED:20151217T145416Z
LAST-MODIFIED:20151217T145416Z
UID:10000044-1455476400-1455562799@manortownship.net
SUMMARY:Office Closed
DESCRIPTION:Closed for Presidents Day
URL:https://manortownship.net/event/office-closed-7/
LOCATION:PA
END:VEVENT
BEGIN:VEVENT
DTSTART;TZID=America/New_York:20160208T190000
DTEND;TZID=America/New_York:20160208T210000
DTSTAMP:20260421T193022
CREATED:20151217T145308Z
LAST-MODIFIED:20151217T145308Z
UID:10000043-1454958000-1454965200@manortownship.net
SUMMARY:Planning Commission
DESCRIPTION:Agenda
URL:https://manortownship.net/event/planning-commission/
LOCATION:PA
END:VEVENT
BEGIN:VEVENT
DTSTART;TZID=America/New_York:20160203T190000
DTEND;TZID=America/New_York:20160203T210000
DTSTAMP:20260421T193022
CREATED:20151217T145234Z
LAST-MODIFIED:20151217T145234Z
UID:10000042-1454526000-1454533200@manortownship.net
SUMMARY:Zoning Hearing - Cancelled
DESCRIPTION:
URL:https://manortownship.net/event/zoning-hearing-4/
LOCATION:PA
END:VEVENT
BEGIN:VEVENT
DTSTART;TZID=America/New_York:20160127T033000
DTEND;TZID=America/New_York:20160127T040000
DTSTAMP:20260421T193022
CREATED:20151216T185024Z
LAST-MODIFIED:20151216T185024Z
UID:10000040-1453865400-1453867200@manortownship.net
SUMMARY:Traffic Comm
DESCRIPTION:
URL:https://manortownship.net/event/traffic-comm-4/
LOCATION:PA
END:VEVENT
BEGIN:VEVENT
DTSTART;TZID=America/New_York:20160125T140000
DTEND;TZID=America/New_York:20160125T150000
DTSTAMP:20260421T193022
CREATED:20151216T184937Z
LAST-MODIFIED:20151216T184937Z
UID:10000039-1453730400-1453734000@manortownship.net
SUMMARY:Park & Recreation
DESCRIPTION:
URL:https://manortownship.net/event/park-recreation/
LOCATION:PA
END:VEVENT
BEGIN:VEVENT
DTSTART;VALUE=DATE:20160112
DTEND;VALUE=DATE:20160113
DTSTAMP:20260421T193022
CREATED:20160112T133130Z
LAST-MODIFIED:20160112T133130Z
UID:10000068-1452556800-1452643199@manortownship.net
SUMMARY:Office Closed
DESCRIPTION:
URL:https://manortownship.net/event/office-closed-10/
LOCATION:Manor Township Municipal Building\, 950 West Fairway Drive\, Lancaster\, PA\, 17603\, United States
GEO:40.0264075;-76.3654509
X-APPLE-STRUCTURED-LOCATION;VALUE=URI;X-ADDRESS=Manor Township Municipal Building 950 West Fairway Drive Lancaster PA 17603 United States;X-APPLE-RADIUS=500;X-TITLE=950 West Fairway Drive:geo:-76.3654509,40.0264075
END:VEVENT
BEGIN:VEVENT
DTSTART;TZID=America/New_York:20160111T140000
DTEND;TZID=America/New_York:20160111T160000
DTSTAMP:20260421T193022
CREATED:20151216T184902Z
LAST-MODIFIED:20151216T184902Z
UID:10000038-1452520800-1452528000@manortownship.net
SUMMARY:Planning Comm - Cancelled
DESCRIPTION:
URL:https://manortownship.net/event/planning-comm-5/
LOCATION:PA
END:VEVENT
BEGIN:VEVENT
DTSTART;TZID=America/New_York:20160106T140000
DTEND;TZID=America/New_York:20160106T160000
DTSTAMP:20260421T193022
CREATED:20151216T184825Z
LAST-MODIFIED:20151216T184825Z
UID:10000037-1452088800-1452096000@manortownship.net
SUMMARY:Zoning Hearing
DESCRIPTION:
URL:https://manortownship.net/event/zoning-hearing-3/
LOCATION:PA
END:VEVENT
BEGIN:VEVENT
DTSTART;TZID=America/New_York:20160105T120000
DTEND;TZID=America/New_York:20160105T130000
DTSTAMP:20260421T193022
CREATED:20151216T184746Z
LAST-MODIFIED:20151216T184746Z
UID:10000036-1451995200-1451998800@manortownship.net
SUMMARY:Auditors Meeting
DESCRIPTION:
URL:https://manortownship.net/event/auditors-meeting/
LOCATION:PA
END:VEVENT
BEGIN:VEVENT
DTSTART;TZID=America/New_York:20151230T033000
DTEND;TZID=America/New_York:20151230T043000
DTSTAMP:20260421T193022
CREATED:20150904T191133Z
LAST-MODIFIED:20150904T191133Z
UID:10000023-1451446200-1451449800@manortownship.net
SUMMARY:Traffic Comm
DESCRIPTION:
URL:https://manortownship.net/event/traffic-comm-3/
LOCATION:PA
END:VEVENT
BEGIN:VEVENT
DTSTART;TZID=America/New_York:20151229T030000
DTEND;TZID=America/New_York:20151229T040000
DTSTAMP:20260421T193022
CREATED:20151210T131554Z
LAST-MODIFIED:20151210T131554Z
UID:10000034-1451358000-1451361600@manortownship.net
SUMMARY:Zoning Hearing Board
DESCRIPTION:Agenda
URL:https://manortownship.net/event/zoning-hearing-board/
LOCATION:Manor Township Municipal Building\, 950 West Fairway Drive\, Lancaster\, PA\, 17603\, United States
GEO:40.0264075;-76.3654509
X-APPLE-STRUCTURED-LOCATION;VALUE=URI;X-ADDRESS=Manor Township Municipal Building 950 West Fairway Drive Lancaster PA 17603 United States;X-APPLE-RADIUS=500;X-TITLE=950 West Fairway Drive:geo:-76.3654509,40.0264075
END:VEVENT
BEGIN:VEVENT
DTSTART;VALUE=DATE:20151224
DTEND;VALUE=DATE:20151226
DTSTAMP:20260421T193022
CREATED:20150820T232201Z
LAST-MODIFIED:20150820T232201Z
UID:10000001-1450983600-1451069999@manortownship.net
SUMMARY:Office Closed
DESCRIPTION:Closed for Christmas Day.
URL:https://manortownship.net/event/office-closed/
LOCATION:PA
END:VEVENT
BEGIN:VEVENT
DTSTART;TZID=America/New_York:20151214T140000
DTEND;TZID=America/New_York:20151214T160000
DTSTAMP:20260421T193022
CREATED:20150904T191040Z
LAST-MODIFIED:20150904T191040Z
UID:10000022-1450101600-1450108800@manortownship.net
SUMMARY:Planning Commission
DESCRIPTION:This meeting has been cancelled.
URL:https://manortownship.net/event/planning-comm-3/
LOCATION:Manor Township Municipal Building\, 950 West Fairway Drive\, Lancaster\, PA\, 17603\, United States
GEO:40.0264075;-76.3654509
X-APPLE-STRUCTURED-LOCATION;VALUE=URI;X-ADDRESS=Manor Township Municipal Building 950 West Fairway Drive Lancaster PA 17603 United States;X-APPLE-RADIUS=500;X-TITLE=950 West Fairway Drive:geo:-76.3654509,40.0264075
END:VEVENT
BEGIN:VEVENT
DTSTART;TZID=America/New_York:20151205T040000
DTEND;TZID=America/New_York:20151205T070000
DTSTAMP:20260421T193022
CREATED:20150904T192108Z
LAST-MODIFIED:20150904T192108Z
UID:10000029-1449288000-1449298800@manortownship.net
SUMMARY:Compost
DESCRIPTION:$10 per cubic yard of compost.
URL:https://manortownship.net/event/compost-7/
LOCATION:Manor Township Compost Site\, 2783 Charlestown Road\, Lancaster\, 17603
END:VEVENT
BEGIN:VEVENT
DTSTART;TZID=America/New_York:20151202T140000
DTEND;TZID=America/New_York:20151202T160000
DTSTAMP:20260421T193022
CREATED:20150904T190620Z
LAST-MODIFIED:20150904T190620Z
UID:10000020-1449064800-1449072000@manortownship.net
SUMMARY:Zoning Hearing
DESCRIPTION:Agenda
URL:https://manortownship.net/event/office-closed-5/
LOCATION:Manor Township Municipal Building\, 950 West Fairway Drive\, Lancaster\, PA\, 17603\, United States
GEO:40.0264075;-76.3654509
X-APPLE-STRUCTURED-LOCATION;VALUE=URI;X-ADDRESS=Manor Township Municipal Building 950 West Fairway Drive Lancaster PA 17603 United States;X-APPLE-RADIUS=500;X-TITLE=950 West Fairway Drive:geo:-76.3654509,40.0264075
END:VEVENT
BEGIN:VEVENT
DTSTART;VALUE=DATE:20151126
DTEND;VALUE=DATE:20151128
DTSTAMP:20260421T193022
CREATED:20151021T152315Z
LAST-MODIFIED:20151021T152315Z
UID:10000033-1448564400-1448650799@manortownship.net
SUMMARY:Office Closed
DESCRIPTION:
URL:https://manortownship.net/event/office-closed-6/
LOCATION:PA
END:VEVENT
BEGIN:VEVENT
DTSTART;VALUE=DATE:20151125
DTEND;VALUE=DATE:20151127
DTSTAMP:20260421T193022
CREATED:20150904T190546Z
LAST-MODIFIED:20150904T190546Z
UID:10000019-1448478000-1448564399@manortownship.net
SUMMARY:Office Closed
DESCRIPTION:Closed in observance of Thanksgiving.
URL:https://manortownship.net/event/office-closed-4/
LOCATION:PA
END:VEVENT
BEGIN:VEVENT
DTSTART;TZID=America/New_York:20151125T033000
DTEND;TZID=America/New_York:20151125T043000
DTSTAMP:20260421T193022
CREATED:20150904T190327Z
LAST-MODIFIED:20150904T190327Z
UID:10000018-1448422200-1448425800@manortownship.net
SUMMARY:Traffic Comm
DESCRIPTION:
URL:https://manortownship.net/event/planning-comm-2/
LOCATION:Manor Township Municipal Building\, 950 West Fairway Drive\, Lancaster\, PA\, 17603\, United States
GEO:40.0264075;-76.3654509
X-APPLE-STRUCTURED-LOCATION;VALUE=URI;X-ADDRESS=Manor Township Municipal Building 950 West Fairway Drive Lancaster PA 17603 United States;X-APPLE-RADIUS=500;X-TITLE=950 West Fairway Drive:geo:-76.3654509,40.0264075
END:VEVENT
BEGIN:VEVENT
DTSTART;TZID=America/New_York:20151121T040000
DTEND;TZID=America/New_York:20151121T070000
DTSTAMP:20260421T193022
CREATED:20150904T191951Z
LAST-MODIFIED:20150904T191951Z
UID:10000028-1448078400-1448089200@manortownship.net
SUMMARY:Compost
DESCRIPTION:$10 per cubic yard of compost.
URL:https://manortownship.net/event/compost-6/
LOCATION:Manor Township Compost Site\, 2783 Charlestown Road\, Lancaster\, 17603
END:VEVENT
BEGIN:VEVENT
DTSTART;TZID=America/New_York:20151111T140000
DTEND;TZID=America/New_York:20151111T160000
DTSTAMP:20260421T193022
CREATED:20150904T190244Z
LAST-MODIFIED:20150904T190244Z
UID:10000017-1447250400-1447257600@manortownship.net
SUMMARY:Zoning Hearing
DESCRIPTION:
URL:https://manortownship.net/event/zoning-hearing-2/
LOCATION:Manor Township Municipal Building\, 950 West Fairway Drive\, Lancaster\, PA\, 17603\, United States
GEO:40.0264075;-76.3654509
X-APPLE-STRUCTURED-LOCATION;VALUE=URI;X-ADDRESS=Manor Township Municipal Building 950 West Fairway Drive Lancaster PA 17603 United States;X-APPLE-RADIUS=500;X-TITLE=950 West Fairway Drive:geo:-76.3654509,40.0264075
END:VEVENT
BEGIN:VEVENT
DTSTART;TZID=America/New_York:20151111T100000
DTEND;TZID=America/New_York:20151111T130000
DTSTAMP:20260421T193022
CREATED:20151021T152253Z
LAST-MODIFIED:20151021T152253Z
UID:10000032-1447236000-1447246800@manortownship.net
SUMMARY:Compost
DESCRIPTION:$10 per cubic yard of compost.
URL:https://manortownship.net/event/compost/
LOCATION:Manor Township Compost Site\, 2783 Charlestown Road\, Lancaster\, 17603
END:VEVENT
END:VCALENDAR