BEGIN:VCALENDAR
VERSION:2.0
PRODID:-//Manor Township - ECPv6.15.20//NONSGML v1.0//EN
CALSCALE:GREGORIAN
METHOD:PUBLISH
X-WR-CALNAME:Manor Township
X-ORIGINAL-URL:https://manortownship.net
X-WR-CALDESC:Events for Manor Township
REFRESH-INTERVAL;VALUE=DURATION:PT1H
X-Robots-Tag:noindex
X-PUBLISHED-TTL:PT1H
BEGIN:VTIMEZONE
TZID:America/New_York
BEGIN:DAYLIGHT
TZOFFSETFROM:-0500
TZOFFSETTO:-0400
TZNAME:EDT
DTSTART:20160313T070000
END:DAYLIGHT
BEGIN:STANDARD
TZOFFSETFROM:-0400
TZOFFSETTO:-0500
TZNAME:EST
DTSTART:20161106T060000
END:STANDARD
BEGIN:DAYLIGHT
TZOFFSETFROM:-0500
TZOFFSETTO:-0400
TZNAME:EDT
DTSTART:20170312T070000
END:DAYLIGHT
BEGIN:STANDARD
TZOFFSETFROM:-0400
TZOFFSETTO:-0500
TZNAME:EST
DTSTART:20171105T060000
END:STANDARD
BEGIN:DAYLIGHT
TZOFFSETFROM:-0500
TZOFFSETTO:-0400
TZNAME:EDT
DTSTART:20180311T070000
END:DAYLIGHT
BEGIN:STANDARD
TZOFFSETFROM:-0400
TZOFFSETTO:-0500
TZNAME:EST
DTSTART:20181104T060000
END:STANDARD
END:VTIMEZONE
BEGIN:VEVENT
DTSTART;TZID=America/New_York:20170925T043000
DTEND;TZID=America/New_York:20170925T043000
DTSTAMP:20260421T025835
CREATED:20161227T211424Z
LAST-MODIFIED:20161227T211424Z
UID:10000152-1506313800-1506313800@manortownship.net
SUMMARY:Traffic Commission
DESCRIPTION:
URL:https://manortownship.net/event/traffic-commission-12/2017-09-25/
END:VEVENT
BEGIN:VEVENT
DTSTART;TZID=America/New_York:20170911T150000
DTEND;TZID=America/New_York:20170911T150000
DTSTAMP:20260421T025835
CREATED:20161227T205726Z
LAST-MODIFIED:20171006T235959Z
UID:10000139-1505142000-1505142000@manortownship.net
SUMMARY:Planning Commission
DESCRIPTION:
URL:https://manortownship.net/event/planning-commission-12/2017-09-11/
LOCATION:Manor Township Municipal Building\, 950 West Fairway Drive\, Lancaster\, PA\, 17603\, United States
GEO:40.0264075;-76.3654509
X-APPLE-STRUCTURED-LOCATION;VALUE=URI;X-ADDRESS=Manor Township Municipal Building 950 West Fairway Drive Lancaster PA 17603 United States;X-APPLE-RADIUS=500;X-TITLE=950 West Fairway Drive:geo:-76.3654509,40.0264075
END:VEVENT
BEGIN:VEVENT
DTSTART;TZID=America/New_York:20170906T150000
DTEND;TZID=America/New_York:20170906T150000
DTSTAMP:20260421T025835
CREATED:20161227T205330Z
LAST-MODIFIED:20170518T223629Z
UID:10000129-1504710000-1504710000@manortownship.net
SUMMARY:Zoning Hearing
DESCRIPTION:
URL:https://manortownship.net/event/zoning-hearing-15-2017-04-05-2017-09-05/
END:VEVENT
BEGIN:VEVENT
DTSTART;TZID=America/New_York:20170906T150000
DTEND;TZID=America/New_York:20170906T150000
DTSTAMP:20260421T025835
CREATED:20161227T204658Z
LAST-MODIFIED:20170203T185936Z
UID:10000116-1504710000-1504710000@manortownship.net
SUMMARY:Supervisors Meeting
DESCRIPTION:
URL:https://manortownship.net/event/supervisors-meeting-10-2017-03-06/2017-09-06/
LOCATION:Manor Township Municipal Building\, 950 West Fairway Drive\, Lancaster\, PA\, 17603\, United States
GEO:40.0264075;-76.3654509
X-APPLE-STRUCTURED-LOCATION;VALUE=URI;X-ADDRESS=Manor Township Municipal Building 950 West Fairway Drive Lancaster PA 17603 United States;X-APPLE-RADIUS=500;X-TITLE=950 West Fairway Drive:geo:-76.3654509,40.0264075
END:VEVENT
BEGIN:VEVENT
DTSTART;TZID=America/New_York:20170905T150000
DTEND;TZID=America/New_York:20170905T150000
DTSTAMP:20260421T025835
CREATED:20161227T213259Z
LAST-MODIFIED:20161227T213259Z
UID:10000170-1504623600-1504623600@manortownship.net
SUMMARY:Supervisors Meeting
DESCRIPTION:
URL:https://manortownship.net/event/supervisors-meeting-11/
END:VEVENT
BEGIN:VEVENT
DTSTART;VALUE=DATE:20170903
DTEND;VALUE=DATE:20170905
DTSTAMP:20260421T025835
CREATED:20161227T214239Z
LAST-MODIFIED:20161227T214239Z
UID:10000178-1504468800-1504555199@manortownship.net
SUMMARY:Office Closed
DESCRIPTION:
URL:https://manortownship.net/event/office-closed-23/
END:VEVENT
BEGIN:VEVENT
DTSTART;TZID=America/New_York:20170825T043000
DTEND;TZID=America/New_York:20170825T043000
DTSTAMP:20260421T025835
CREATED:20161227T211424Z
LAST-MODIFIED:20161227T211424Z
UID:10000151-1503635400-1503635400@manortownship.net
SUMMARY:Traffic Commission
DESCRIPTION:
URL:https://manortownship.net/event/traffic-commission-12/2017-08-25/
END:VEVENT
BEGIN:VEVENT
DTSTART;TZID=America/New_York:20170814T150000
DTEND;TZID=America/New_York:20170814T150000
DTSTAMP:20260421T025835
CREATED:20161227T205726Z
LAST-MODIFIED:20171006T235959Z
UID:10000138-1502722800-1502722800@manortownship.net
SUMMARY:Planning Commission
DESCRIPTION:
URL:https://manortownship.net/event/planning-commission-12/2017-08-14/
LOCATION:Manor Township Municipal Building\, 950 West Fairway Drive\, Lancaster\, PA\, 17603\, United States
GEO:40.0264075;-76.3654509
X-APPLE-STRUCTURED-LOCATION;VALUE=URI;X-ADDRESS=Manor Township Municipal Building 950 West Fairway Drive Lancaster PA 17603 United States;X-APPLE-RADIUS=500;X-TITLE=950 West Fairway Drive:geo:-76.3654509,40.0264075
END:VEVENT
BEGIN:VEVENT
DTSTART;TZID=America/New_York:20170806T150000
DTEND;TZID=America/New_York:20170806T150000
DTSTAMP:20260421T025835
CREATED:20161227T204658Z
LAST-MODIFIED:20170203T185936Z
UID:10000115-1502031600-1502031600@manortownship.net
SUMMARY:Supervisors Meeting
DESCRIPTION:
URL:https://manortownship.net/event/supervisors-meeting-10-2017-03-06/2017-08-06/
LOCATION:Manor Township Municipal Building\, 950 West Fairway Drive\, Lancaster\, PA\, 17603\, United States
GEO:40.0264075;-76.3654509
X-APPLE-STRUCTURED-LOCATION;VALUE=URI;X-ADDRESS=Manor Township Municipal Building 950 West Fairway Drive Lancaster PA 17603 United States;X-APPLE-RADIUS=500;X-TITLE=950 West Fairway Drive:geo:-76.3654509,40.0264075
END:VEVENT
BEGIN:VEVENT
DTSTART;TZID=America/New_York:20170802T150000
DTEND;TZID=America/New_York:20170802T150000
DTSTAMP:20260421T025835
CREATED:20161227T205330Z
LAST-MODIFIED:20170713T180437Z
UID:10000128-1501686000-1501686000@manortownship.net
SUMMARY:Zoning Hearing - Meeting cancelled
DESCRIPTION:
URL:https://manortownship.net/event/zoning-hearing-15-2017-04-05-2017-08-05/
END:VEVENT
BEGIN:VEVENT
DTSTART;TZID=America/New_York:20170725T043000
DTEND;TZID=America/New_York:20170725T043000
DTSTAMP:20260421T025835
CREATED:20161227T211424Z
LAST-MODIFIED:20161227T211424Z
UID:10000150-1500957000-1500957000@manortownship.net
SUMMARY:Traffic Commission
DESCRIPTION:
URL:https://manortownship.net/event/traffic-commission-12/2017-07-25/
END:VEVENT
BEGIN:VEVENT
DTSTART;TZID=America/New_York:20170724T150000
DTEND;TZID=America/New_York:20170724T150000
DTSTAMP:20260421T025835
CREATED:20161227T211856Z
LAST-MODIFIED:20170712T181737Z
UID:10000168-1500908400-1500908400@manortownship.net
SUMMARY:Park & Recreation Meeting - Meeting has been cancelled
DESCRIPTION:
URL:https://manortownship.net/event/park-recreation-meeting-3/
END:VEVENT
BEGIN:VEVENT
DTSTART;TZID=America/New_York:20170710T150000
DTEND;TZID=America/New_York:20170710T150000
DTSTAMP:20260421T025835
CREATED:20161227T205726Z
LAST-MODIFIED:20171006T235959Z
UID:10000137-1499698800-1499698800@manortownship.net
SUMMARY:Planning Commission
DESCRIPTION:
URL:https://manortownship.net/event/planning-commission-12/2017-07-10/
LOCATION:Manor Township Municipal Building\, 950 West Fairway Drive\, Lancaster\, PA\, 17603\, United States
GEO:40.0264075;-76.3654509
X-APPLE-STRUCTURED-LOCATION;VALUE=URI;X-ADDRESS=Manor Township Municipal Building 950 West Fairway Drive Lancaster PA 17603 United States;X-APPLE-RADIUS=500;X-TITLE=950 West Fairway Drive:geo:-76.3654509,40.0264075
END:VEVENT
BEGIN:VEVENT
DTSTART;TZID=America/New_York:20170706T150000
DTEND;TZID=America/New_York:20170706T150000
DTSTAMP:20260421T025835
CREATED:20161227T204658Z
LAST-MODIFIED:20170203T185936Z
UID:10000114-1499353200-1499353200@manortownship.net
SUMMARY:Supervisors Meeting
DESCRIPTION:
URL:https://manortownship.net/event/supervisors-meeting-10-2017-03-06/2017-07-06/
LOCATION:Manor Township Municipal Building\, 950 West Fairway Drive\, Lancaster\, PA\, 17603\, United States
GEO:40.0264075;-76.3654509
X-APPLE-STRUCTURED-LOCATION;VALUE=URI;X-ADDRESS=Manor Township Municipal Building 950 West Fairway Drive Lancaster PA 17603 United States;X-APPLE-RADIUS=500;X-TITLE=950 West Fairway Drive:geo:-76.3654509,40.0264075
END:VEVENT
BEGIN:VEVENT
DTSTART;TZID=America/New_York:20170705T150000
DTEND;TZID=America/New_York:20170705T150000
DTSTAMP:20260421T025835
CREATED:20161227T205330Z
LAST-MODIFIED:20170626T203424Z
UID:10000126-1499266800-1499266800@manortownship.net
SUMMARY:Zoning Hearing-Meeting Cancelled
DESCRIPTION:
URL:https://manortownship.net/event/zoning-hearing-15-2017-04-05-2017-07-05/
END:VEVENT
BEGIN:VEVENT
DTSTART;VALUE=DATE:20170703
DTEND;VALUE=DATE:20170705
DTSTAMP:20260421T025835
CREATED:20161227T214145Z
LAST-MODIFIED:20161227T214145Z
UID:10000177-1499112000-1499198399@manortownship.net
SUMMARY:Office Closed
DESCRIPTION:
URL:https://manortownship.net/event/office-closed-22/
END:VEVENT
BEGIN:VEVENT
DTSTART;TZID=America/New_York:20170703T150000
DTEND;TZID=America/New_York:20170703T150000
DTSTAMP:20260421T025835
CREATED:20161227T204658Z
LAST-MODIFIED:20170626T203230Z
UID:10000120-1499094000-1499094000@manortownship.net
SUMMARY:Supervisors Meeting-Cancelled
DESCRIPTION:
URL:https://manortownship.net/event/supervisors-meeting-10-2017-07-03/
LOCATION:Manor Township Municipal Building\, 950 West Fairway Drive\, Lancaster\, PA\, 17603\, United States
GEO:40.0264075;-76.3654509
X-APPLE-STRUCTURED-LOCATION;VALUE=URI;X-ADDRESS=Manor Township Municipal Building 950 West Fairway Drive Lancaster PA 17603 United States;X-APPLE-RADIUS=500;X-TITLE=950 West Fairway Drive:geo:-76.3654509,40.0264075
END:VEVENT
BEGIN:VEVENT
DTSTART;TZID=America/New_York:20170628T043000
DTEND;TZID=America/New_York:20170628T043000
DTSTAMP:20260421T025835
CREATED:20161227T211424Z
LAST-MODIFIED:20170623T204422Z
UID:10000159-1498624200-1498624200@manortownship.net
SUMMARY:Traffic Commission - Cancelled - No New Business
DESCRIPTION:
URL:https://manortownship.net/event/traffic-commission-12-2017-06-28/
END:VEVENT
BEGIN:VEVENT
DTSTART;TZID=America/New_York:20170625T043000
DTEND;TZID=America/New_York:20170625T043000
DTSTAMP:20260421T025835
CREATED:20161227T211424Z
LAST-MODIFIED:20161227T211424Z
UID:10000149-1498365000-1498365000@manortownship.net
SUMMARY:Traffic Commission
DESCRIPTION:
URL:https://manortownship.net/event/traffic-commission-12/2017-06-25/
END:VEVENT
BEGIN:VEVENT
DTSTART;TZID=America/New_York:20170613T140000
DTEND;TZID=America/New_York:20170613T160000
DTSTAMP:20260421T025835
CREATED:20170515T175150Z
LAST-MODIFIED:20170515T180232Z
UID:10000198-1497362400-1497369600@manortownship.net
SUMMARY:Coffee with Cops
DESCRIPTION:
URL:https://manortownship.net/event/coffee-with-cops/
END:VEVENT
BEGIN:VEVENT
DTSTART;TZID=America/New_York:20170612T150000
DTEND;TZID=America/New_York:20170612T150000
DTSTAMP:20260421T025835
CREATED:20161227T205726Z
LAST-MODIFIED:20171006T235959Z
UID:10000136-1497279600-1497279600@manortownship.net
SUMMARY:Planning Commission
DESCRIPTION:
URL:https://manortownship.net/event/planning-commission-12/2017-06-12/
LOCATION:Manor Township Municipal Building\, 950 West Fairway Drive\, Lancaster\, PA\, 17603\, United States
GEO:40.0264075;-76.3654509
X-APPLE-STRUCTURED-LOCATION;VALUE=URI;X-ADDRESS=Manor Township Municipal Building 950 West Fairway Drive Lancaster PA 17603 United States;X-APPLE-RADIUS=500;X-TITLE=950 West Fairway Drive:geo:-76.3654509,40.0264075
END:VEVENT
BEGIN:VEVENT
DTSTART;TZID=America/New_York:20170607T150000
DTEND;TZID=America/New_York:20170607T150000
DTSTAMP:20260421T025835
CREATED:20161227T205330Z
LAST-MODIFIED:20170518T222040Z
UID:10000127-1496847600-1496847600@manortownship.net
SUMMARY:Zoning Hearing - Meeting Cancelled
DESCRIPTION:
URL:https://manortownship.net/event/zoning-hearing-15-2017-04-05-2017-06-05/
END:VEVENT
BEGIN:VEVENT
DTSTART;TZID=America/New_York:20170606T150000
DTEND;TZID=America/New_York:20170606T150000
DTSTAMP:20260421T025835
CREATED:20161227T204658Z
LAST-MODIFIED:20170203T185936Z
UID:10000113-1496761200-1496761200@manortownship.net
SUMMARY:Supervisors Meeting
DESCRIPTION:
URL:https://manortownship.net/event/supervisors-meeting-10-2017-03-06/2017-06-06/
LOCATION:Manor Township Municipal Building\, 950 West Fairway Drive\, Lancaster\, PA\, 17603\, United States
GEO:40.0264075;-76.3654509
X-APPLE-STRUCTURED-LOCATION;VALUE=URI;X-ADDRESS=Manor Township Municipal Building 950 West Fairway Drive Lancaster PA 17603 United States;X-APPLE-RADIUS=500;X-TITLE=950 West Fairway Drive:geo:-76.3654509,40.0264075
END:VEVENT
BEGIN:VEVENT
DTSTART;VALUE=DATE:20170528
DTEND;VALUE=DATE:20170530
DTSTAMP:20260421T025835
CREATED:20161227T214059Z
LAST-MODIFIED:20161227T214059Z
UID:10000176-1496001600-1496087999@manortownship.net
SUMMARY:Office Closed
DESCRIPTION:
URL:https://manortownship.net/event/office-closed-21/
END:VEVENT
BEGIN:VEVENT
DTSTART;TZID=America/New_York:20170525T043000
DTEND;TZID=America/New_York:20170525T043000
DTSTAMP:20260421T025835
CREATED:20161227T211424Z
LAST-MODIFIED:20161227T211424Z
UID:10000148-1495686600-1495686600@manortownship.net
SUMMARY:Traffic Commission
DESCRIPTION:
URL:https://manortownship.net/event/traffic-commission-12/2017-05-25/
END:VEVENT
BEGIN:VEVENT
DTSTART;TZID=America/New_York:20170520T050000
DTEND;TZID=America/New_York:20170520T080000
DTSTAMP:20260421T025835
CREATED:20161229T014256Z
LAST-MODIFIED:20161229T014256Z
UID:10000193-1495256400-1495267200@manortownship.net
SUMMARY:Compost for Sale
DESCRIPTION:$10 a cubic yard.
URL:https://manortownship.net/event/compost-for-sale-9/
LOCATION:Manor Township Compost Site\, 2783 Charlestown Road\, Lancaster\, 17603
END:VEVENT
BEGIN:VEVENT
DTSTART;VALUE=DATE:20170515
DTEND;VALUE=DATE:20170517
DTSTAMP:20260421T025835
CREATED:20161229T013314Z
LAST-MODIFIED:20161229T013314Z
UID:10000190-1494878400-1494964799@manortownship.net
SUMMARY:Primary Election Day
DESCRIPTION:
URL:https://manortownship.net/event/primary-election-day-2/
LOCATION:Manor Township Municipal Building\, 950 West Fairway Drive\, Lancaster\, PA\, 17603\, United States
GEO:40.0264075;-76.3654509
X-APPLE-STRUCTURED-LOCATION;VALUE=URI;X-ADDRESS=Manor Township Municipal Building 950 West Fairway Drive Lancaster PA 17603 United States;X-APPLE-RADIUS=500;X-TITLE=950 West Fairway Drive:geo:-76.3654509,40.0264075
END:VEVENT
BEGIN:VEVENT
DTSTART;VALUE=DATE:20170515
DTEND;VALUE=DATE:20170517
DTSTAMP:20260421T025835
CREATED:20161227T213737Z
LAST-MODIFIED:20161227T213737Z
UID:10000175-1494878400-1494964799@manortownship.net
SUMMARY:Office Closed
DESCRIPTION:
URL:https://manortownship.net/event/office-closed-20/
END:VEVENT
BEGIN:VEVENT
DTSTART;TZID=America/New_York:20170513T050000
DTEND;TZID=America/New_York:20170513T080000
DTSTAMP:20260421T025835
CREATED:20161229T013933Z
LAST-MODIFIED:20161229T013933Z
UID:10000192-1494651600-1494662400@manortownship.net
SUMMARY:Compost for Sale
DESCRIPTION:$10 a cubic yard.
URL:https://manortownship.net/event/compost-for-sale-8/
LOCATION:Manor Township Compost Site\, 2783 Charlestown Road\, Lancaster\, 17603
END:VEVENT
BEGIN:VEVENT
DTSTART;TZID=America/New_York:20170508T150000
DTEND;TZID=America/New_York:20170508T150000
DTSTAMP:20260421T025835
CREATED:20161227T205726Z
LAST-MODIFIED:20171006T235959Z
UID:10000135-1494255600-1494255600@manortownship.net
SUMMARY:Planning Commission
DESCRIPTION:
URL:https://manortownship.net/event/planning-commission-12/2017-05-08/
LOCATION:Manor Township Municipal Building\, 950 West Fairway Drive\, Lancaster\, PA\, 17603\, United States
GEO:40.0264075;-76.3654509
X-APPLE-STRUCTURED-LOCATION;VALUE=URI;X-ADDRESS=Manor Township Municipal Building 950 West Fairway Drive Lancaster PA 17603 United States;X-APPLE-RADIUS=500;X-TITLE=950 West Fairway Drive:geo:-76.3654509,40.0264075
END:VEVENT
END:VCALENDAR