BEGIN:VCALENDAR
VERSION:2.0
PRODID:-//Manor Township - ECPv6.15.20//NONSGML v1.0//EN
CALSCALE:GREGORIAN
METHOD:PUBLISH
X-WR-CALNAME:Manor Township
X-ORIGINAL-URL:https://manortownship.net
X-WR-CALDESC:Events for Manor Township
REFRESH-INTERVAL;VALUE=DURATION:PT1H
X-Robots-Tag:noindex
X-PUBLISHED-TTL:PT1H
BEGIN:VTIMEZONE
TZID:America/New_York
BEGIN:DAYLIGHT
TZOFFSETFROM:-0500
TZOFFSETTO:-0400
TZNAME:EDT
DTSTART:20160313T070000
END:DAYLIGHT
BEGIN:STANDARD
TZOFFSETFROM:-0400
TZOFFSETTO:-0500
TZNAME:EST
DTSTART:20161106T060000
END:STANDARD
BEGIN:DAYLIGHT
TZOFFSETFROM:-0500
TZOFFSETTO:-0400
TZNAME:EDT
DTSTART:20170312T070000
END:DAYLIGHT
BEGIN:STANDARD
TZOFFSETFROM:-0400
TZOFFSETTO:-0500
TZNAME:EST
DTSTART:20171105T060000
END:STANDARD
BEGIN:DAYLIGHT
TZOFFSETFROM:-0500
TZOFFSETTO:-0400
TZNAME:EDT
DTSTART:20180311T070000
END:DAYLIGHT
BEGIN:STANDARD
TZOFFSETFROM:-0400
TZOFFSETTO:-0500
TZNAME:EST
DTSTART:20181104T060000
END:STANDARD
END:VTIMEZONE
BEGIN:VEVENT
DTSTART;TZID=America/New_York:20170613T140000
DTEND;TZID=America/New_York:20170613T160000
DTSTAMP:20260421T074258
CREATED:20170515T175150Z
LAST-MODIFIED:20170515T180232Z
UID:10000198-1497362400-1497369600@manortownship.net
SUMMARY:Coffee with Cops
DESCRIPTION:
URL:https://manortownship.net/event/coffee-with-cops/
END:VEVENT
BEGIN:VEVENT
DTSTART;TZID=America/New_York:20170612T150000
DTEND;TZID=America/New_York:20170612T150000
DTSTAMP:20260421T074258
CREATED:20161227T205726Z
LAST-MODIFIED:20171006T235959Z
UID:10000136-1497279600-1497279600@manortownship.net
SUMMARY:Planning Commission
DESCRIPTION:
URL:https://manortownship.net/event/planning-commission-12/2017-06-12/
LOCATION:Manor Township Municipal Building\, 950 West Fairway Drive\, Lancaster\, PA\, 17603\, United States
GEO:40.0264075;-76.3654509
X-APPLE-STRUCTURED-LOCATION;VALUE=URI;X-ADDRESS=Manor Township Municipal Building 950 West Fairway Drive Lancaster PA 17603 United States;X-APPLE-RADIUS=500;X-TITLE=950 West Fairway Drive:geo:-76.3654509,40.0264075
END:VEVENT
BEGIN:VEVENT
DTSTART;TZID=America/New_York:20170607T150000
DTEND;TZID=America/New_York:20170607T150000
DTSTAMP:20260421T074258
CREATED:20161227T205330Z
LAST-MODIFIED:20170518T222040Z
UID:10000127-1496847600-1496847600@manortownship.net
SUMMARY:Zoning Hearing - Meeting Cancelled
DESCRIPTION:
URL:https://manortownship.net/event/zoning-hearing-15-2017-04-05-2017-06-05/
END:VEVENT
BEGIN:VEVENT
DTSTART;TZID=America/New_York:20170606T150000
DTEND;TZID=America/New_York:20170606T150000
DTSTAMP:20260421T074258
CREATED:20161227T204658Z
LAST-MODIFIED:20170203T185936Z
UID:10000113-1496761200-1496761200@manortownship.net
SUMMARY:Supervisors Meeting
DESCRIPTION:
URL:https://manortownship.net/event/supervisors-meeting-10-2017-03-06/2017-06-06/
LOCATION:Manor Township Municipal Building\, 950 West Fairway Drive\, Lancaster\, PA\, 17603\, United States
GEO:40.0264075;-76.3654509
X-APPLE-STRUCTURED-LOCATION;VALUE=URI;X-ADDRESS=Manor Township Municipal Building 950 West Fairway Drive Lancaster PA 17603 United States;X-APPLE-RADIUS=500;X-TITLE=950 West Fairway Drive:geo:-76.3654509,40.0264075
END:VEVENT
BEGIN:VEVENT
DTSTART;VALUE=DATE:20170528
DTEND;VALUE=DATE:20170530
DTSTAMP:20260421T074258
CREATED:20161227T214059Z
LAST-MODIFIED:20161227T214059Z
UID:10000176-1496001600-1496087999@manortownship.net
SUMMARY:Office Closed
DESCRIPTION:
URL:https://manortownship.net/event/office-closed-21/
END:VEVENT
BEGIN:VEVENT
DTSTART;TZID=America/New_York:20170525T043000
DTEND;TZID=America/New_York:20170525T043000
DTSTAMP:20260421T074258
CREATED:20161227T211424Z
LAST-MODIFIED:20161227T211424Z
UID:10000148-1495686600-1495686600@manortownship.net
SUMMARY:Traffic Commission
DESCRIPTION:
URL:https://manortownship.net/event/traffic-commission-12/2017-05-25/
END:VEVENT
BEGIN:VEVENT
DTSTART;TZID=America/New_York:20170520T050000
DTEND;TZID=America/New_York:20170520T080000
DTSTAMP:20260421T074258
CREATED:20161229T014256Z
LAST-MODIFIED:20161229T014256Z
UID:10000193-1495256400-1495267200@manortownship.net
SUMMARY:Compost for Sale
DESCRIPTION:$10 a cubic yard.
URL:https://manortownship.net/event/compost-for-sale-9/
LOCATION:Manor Township Compost Site\, 2783 Charlestown Road\, Lancaster\, 17603
END:VEVENT
BEGIN:VEVENT
DTSTART;VALUE=DATE:20170515
DTEND;VALUE=DATE:20170517
DTSTAMP:20260421T074258
CREATED:20161229T013314Z
LAST-MODIFIED:20161229T013314Z
UID:10000190-1494878400-1494964799@manortownship.net
SUMMARY:Primary Election Day
DESCRIPTION:
URL:https://manortownship.net/event/primary-election-day-2/
LOCATION:Manor Township Municipal Building\, 950 West Fairway Drive\, Lancaster\, PA\, 17603\, United States
GEO:40.0264075;-76.3654509
X-APPLE-STRUCTURED-LOCATION;VALUE=URI;X-ADDRESS=Manor Township Municipal Building 950 West Fairway Drive Lancaster PA 17603 United States;X-APPLE-RADIUS=500;X-TITLE=950 West Fairway Drive:geo:-76.3654509,40.0264075
END:VEVENT
BEGIN:VEVENT
DTSTART;VALUE=DATE:20170515
DTEND;VALUE=DATE:20170517
DTSTAMP:20260421T074258
CREATED:20161227T213737Z
LAST-MODIFIED:20161227T213737Z
UID:10000175-1494878400-1494964799@manortownship.net
SUMMARY:Office Closed
DESCRIPTION:
URL:https://manortownship.net/event/office-closed-20/
END:VEVENT
BEGIN:VEVENT
DTSTART;TZID=America/New_York:20170513T050000
DTEND;TZID=America/New_York:20170513T080000
DTSTAMP:20260421T074258
CREATED:20161229T013933Z
LAST-MODIFIED:20161229T013933Z
UID:10000192-1494651600-1494662400@manortownship.net
SUMMARY:Compost for Sale
DESCRIPTION:$10 a cubic yard.
URL:https://manortownship.net/event/compost-for-sale-8/
LOCATION:Manor Township Compost Site\, 2783 Charlestown Road\, Lancaster\, 17603
END:VEVENT
BEGIN:VEVENT
DTSTART;TZID=America/New_York:20170508T150000
DTEND;TZID=America/New_York:20170508T150000
DTSTAMP:20260421T074258
CREATED:20161227T205726Z
LAST-MODIFIED:20171006T235959Z
UID:10000135-1494255600-1494255600@manortownship.net
SUMMARY:Planning Commission
DESCRIPTION:
URL:https://manortownship.net/event/planning-commission-12/2017-05-08/
LOCATION:Manor Township Municipal Building\, 950 West Fairway Drive\, Lancaster\, PA\, 17603\, United States
GEO:40.0264075;-76.3654509
X-APPLE-STRUCTURED-LOCATION;VALUE=URI;X-ADDRESS=Manor Township Municipal Building 950 West Fairway Drive Lancaster PA 17603 United States;X-APPLE-RADIUS=500;X-TITLE=950 West Fairway Drive:geo:-76.3654509,40.0264075
END:VEVENT
BEGIN:VEVENT
DTSTART;TZID=America/New_York:20170506T150000
DTEND;TZID=America/New_York:20170506T150000
DTSTAMP:20260421T074258
CREATED:20161227T204658Z
LAST-MODIFIED:20170203T185936Z
UID:10000112-1494082800-1494082800@manortownship.net
SUMMARY:Supervisors Meeting
DESCRIPTION:
URL:https://manortownship.net/event/supervisors-meeting-10-2017-03-06/2017-05-06/
LOCATION:Manor Township Municipal Building\, 950 West Fairway Drive\, Lancaster\, PA\, 17603\, United States
GEO:40.0264075;-76.3654509
X-APPLE-STRUCTURED-LOCATION;VALUE=URI;X-ADDRESS=Manor Township Municipal Building 950 West Fairway Drive Lancaster PA 17603 United States;X-APPLE-RADIUS=500;X-TITLE=950 West Fairway Drive:geo:-76.3654509,40.0264075
END:VEVENT
BEGIN:VEVENT
DTSTART;TZID=America/New_York:20170505T150000
DTEND;TZID=America/New_York:20170505T150000
DTSTAMP:20260421T074258
CREATED:20161227T205330Z
LAST-MODIFIED:20170518T221636Z
UID:10000125-1493996400-1493996400@manortownship.net
SUMMARY:Zoning Hearing
DESCRIPTION:
URL:https://manortownship.net/event/zoning-hearing-15-2017-04-05/2017-05-05/
END:VEVENT
BEGIN:VEVENT
DTSTART;TZID=America/New_York:20170503T110000
DTEND;TZID=America/New_York:20170503T140000
DTSTAMP:20260421T074258
CREATED:20161229T013526Z
LAST-MODIFIED:20161229T013526Z
UID:10000191-1493809200-1493820000@manortownship.net
SUMMARY:Compost for Sale
DESCRIPTION:$10 a cubic yard.
URL:https://manortownship.net/event/compost-for-sale-7/
LOCATION:Manor Township Compost Site\, 2783 Charlestown Road\, Lancaster\, 17603
END:VEVENT
BEGIN:VEVENT
DTSTART;TZID=America/New_York:20170426T110000
DTEND;TZID=America/New_York:20170426T140000
DTSTAMP:20260421T074258
CREATED:20161229T013202Z
LAST-MODIFIED:20161229T013202Z
UID:10000189-1493204400-1493215200@manortownship.net
SUMMARY:Compost for Sale
DESCRIPTION:$10 a cubic yard.
URL:https://manortownship.net/event/compost-for-sale-6/
LOCATION:Manor Township Compost Site\, 2783 Charlestown Road\, Lancaster\, 17603
END:VEVENT
BEGIN:VEVENT
DTSTART;TZID=America/New_York:20170425T043000
DTEND;TZID=America/New_York:20170425T043000
DTSTAMP:20260421T074258
CREATED:20161227T211424Z
LAST-MODIFIED:20161227T211424Z
UID:10000147-1493094600-1493094600@manortownship.net
SUMMARY:Traffic Commission
DESCRIPTION:
URL:https://manortownship.net/event/traffic-commission-12/2017-04-25/
END:VEVENT
BEGIN:VEVENT
DTSTART;TZID=America/New_York:20170424T150000
DTEND;TZID=America/New_York:20170424T150000
DTSTAMP:20260421T074258
CREATED:20161227T211754Z
LAST-MODIFIED:20170411T205129Z
UID:10000167-1493046000-1493046000@manortownship.net
SUMMARY:Park & Recreation Meeting - Cancelled
DESCRIPTION:
URL:https://manortownship.net/event/park-recreation-meeting-2/
END:VEVENT
BEGIN:VEVENT
DTSTART;TZID=America/New_York:20170422T050000
DTEND;TZID=America/New_York:20170422T080000
DTSTAMP:20260421T074258
CREATED:20161229T012622Z
LAST-MODIFIED:20161229T012622Z
UID:10000187-1492837200-1492848000@manortownship.net
SUMMARY:Compost for Sale
DESCRIPTION:$10 a cubic yard.
URL:https://manortownship.net/event/compost-for-sale-4/
LOCATION:Manor Township Compost Site\, 2783 Charlestown Road\, Lancaster\, 17603
END:VEVENT
BEGIN:VEVENT
DTSTART;VALUE=DATE:20170413
DTEND;VALUE=DATE:20170415
DTSTAMP:20260421T074258
CREATED:20161227T213643Z
LAST-MODIFIED:20161227T213643Z
UID:10000174-1492113600-1492199999@manortownship.net
SUMMARY:Office Closed
DESCRIPTION:
URL:https://manortownship.net/event/office-closed-19/
END:VEVENT
BEGIN:VEVENT
DTSTART;TZID=America/New_York:20170412T110000
DTEND;TZID=America/New_York:20170412T140000
DTSTAMP:20260421T074258
CREATED:20161229T012817Z
LAST-MODIFIED:20161229T015201Z
UID:10000188-1491994800-1492005600@manortownship.net
SUMMARY:Compost for Sale
DESCRIPTION:$10 a cubic yard.
URL:https://manortownship.net/event/compost-for-sale-5/
LOCATION:Manor Township Compost Site\, 2783 Charlestown Road\, Lancaster\, 17603
END:VEVENT
BEGIN:VEVENT
DTSTART;TZID=America/New_York:20170410T150000
DTEND;TZID=America/New_York:20170410T150000
DTSTAMP:20260421T074258
CREATED:20161227T205726Z
LAST-MODIFIED:20171006T235959Z
UID:10000134-1491836400-1491836400@manortownship.net
SUMMARY:Planning Commission
DESCRIPTION:
URL:https://manortownship.net/event/planning-commission-12/2017-04-10/
LOCATION:Manor Township Municipal Building\, 950 West Fairway Drive\, Lancaster\, PA\, 17603\, United States
GEO:40.0264075;-76.3654509
X-APPLE-STRUCTURED-LOCATION;VALUE=URI;X-ADDRESS=Manor Township Municipal Building 950 West Fairway Drive Lancaster PA 17603 United States;X-APPLE-RADIUS=500;X-TITLE=950 West Fairway Drive:geo:-76.3654509,40.0264075
END:VEVENT
BEGIN:VEVENT
DTSTART;TZID=America/New_York:20170408T050000
DTEND;TZID=America/New_York:20170408T080000
DTSTAMP:20260421T074258
CREATED:20161229T012510Z
LAST-MODIFIED:20161229T012510Z
UID:10000186-1491627600-1491638400@manortownship.net
SUMMARY:Compost for Sale
DESCRIPTION:$10 a cubic yard.
URL:https://manortownship.net/event/compost-for-sale-3/
LOCATION:Manor Township Compost Site\, 2783 Charlestown Road\, Lancaster\, 17603
END:VEVENT
BEGIN:VEVENT
DTSTART;TZID=America/New_York:20170406T150000
DTEND;TZID=America/New_York:20170406T150000
DTSTAMP:20260421T074258
CREATED:20161227T204658Z
LAST-MODIFIED:20170203T185936Z
UID:10000111-1491490800-1491490800@manortownship.net
SUMMARY:Supervisors Meeting
DESCRIPTION:
URL:https://manortownship.net/event/supervisors-meeting-10-2017-03-06/2017-04-06/
LOCATION:Manor Township Municipal Building\, 950 West Fairway Drive\, Lancaster\, PA\, 17603\, United States
GEO:40.0264075;-76.3654509
X-APPLE-STRUCTURED-LOCATION;VALUE=URI;X-ADDRESS=Manor Township Municipal Building 950 West Fairway Drive Lancaster PA 17603 United States;X-APPLE-RADIUS=500;X-TITLE=950 West Fairway Drive:geo:-76.3654509,40.0264075
END:VEVENT
BEGIN:VEVENT
DTSTART;TZID=America/New_York:20170405T150000
DTEND;TZID=America/New_York:20170405T150000
DTSTAMP:20260421T074258
CREATED:20161227T205330Z
LAST-MODIFIED:20170518T221636Z
UID:10000124-1491404400-1491404400@manortownship.net
SUMMARY:Zoning Hearing
DESCRIPTION:
URL:https://manortownship.net/event/zoning-hearing-15-2017-04-05/2017-04-05/
END:VEVENT
BEGIN:VEVENT
DTSTART;TZID=America/New_York:20170401T050000
DTEND;TZID=America/New_York:20170401T080000
DTSTAMP:20260421T074258
CREATED:20161229T012302Z
LAST-MODIFIED:20161229T012302Z
UID:10000185-1491022800-1491033600@manortownship.net
SUMMARY:Compost for Sale
DESCRIPTION:$10 a cubic yard.
URL:https://manortownship.net/event/compost-for-sale-2/
LOCATION:Manor Township Compost Site\, 2783 Charlestown Road\, Lancaster\, 17603
END:VEVENT
BEGIN:VEVENT
DTSTART;TZID=America/New_York:20170329T110000
DTEND;TZID=America/New_York:20170329T140000
DTSTAMP:20260421T074258
CREATED:20161229T000037Z
LAST-MODIFIED:20161229T000037Z
UID:10000184-1490785200-1490796000@manortownship.net
SUMMARY:Compost for Sale
DESCRIPTION:$10 a cubic yard.
URL:https://manortownship.net/event/compost-for-sale/
LOCATION:Manor Township Compost Site\, 2783 Charlestown Road\, Lancaster\, 17603
END:VEVENT
BEGIN:VEVENT
DTSTART;TZID=America/New_York:20170325T043000
DTEND;TZID=America/New_York:20170325T043000
DTSTAMP:20260421T074258
CREATED:20161227T211424Z
LAST-MODIFIED:20161227T211424Z
UID:10000146-1490416200-1490416200@manortownship.net
SUMMARY:Traffic Commission
DESCRIPTION:
URL:https://manortownship.net/event/traffic-commission-12/2017-03-25/
END:VEVENT
BEGIN:VEVENT
DTSTART;TZID=America/New_York:20170313T150000
DTEND;TZID=America/New_York:20170313T150000
DTSTAMP:20260421T074258
CREATED:20161227T205726Z
LAST-MODIFIED:20170227T191026Z
UID:10000142-1489417200-1489417200@manortownship.net
SUMMARY:Planning Commission-Meeting has been cancelled
DESCRIPTION:
URL:https://manortownship.net/event/planning-commission-12-2017-03-13/
LOCATION:Manor Township Municipal Building\, 950 West Fairway Drive\, Lancaster\, PA\, 17603\, United States
GEO:40.0264075;-76.3654509
X-APPLE-STRUCTURED-LOCATION;VALUE=URI;X-ADDRESS=Manor Township Municipal Building 950 West Fairway Drive Lancaster PA 17603 United States;X-APPLE-RADIUS=500;X-TITLE=950 West Fairway Drive:geo:-76.3654509,40.0264075
END:VEVENT
BEGIN:VEVENT
DTSTART;VALUE=DATE:20170311
DTEND;VALUE=DATE:20170313
DTSTAMP:20260421T074258
CREATED:20161230T223758Z
LAST-MODIFIED:20161230T223758Z
UID:10000196-1489258800-1489348799@manortownship.net
SUMMARY:Daylight Savings - Spring Ahead
DESCRIPTION:
URL:https://manortownship.net/event/daylight-savings-spring-ahead/
END:VEVENT
BEGIN:VEVENT
DTSTART;TZID=America/New_York:20170306T140000
DTEND;TZID=America/New_York:20170306T140000
DTSTAMP:20260421T074258
CREATED:20161227T204658Z
LAST-MODIFIED:20170203T185936Z
UID:10000110-1488808800-1488808800@manortownship.net
SUMMARY:Supervisors Meeting
DESCRIPTION:
URL:https://manortownship.net/event/supervisors-meeting-10-2017-03-06/2017-03-06/
LOCATION:Manor Township Municipal Building\, 950 West Fairway Drive\, Lancaster\, PA\, 17603\, United States
GEO:40.0264075;-76.3654509
X-APPLE-STRUCTURED-LOCATION;VALUE=URI;X-ADDRESS=Manor Township Municipal Building 950 West Fairway Drive Lancaster PA 17603 United States;X-APPLE-RADIUS=500;X-TITLE=950 West Fairway Drive:geo:-76.3654509,40.0264075
END:VEVENT
END:VCALENDAR