BEGIN:VCALENDAR
VERSION:2.0
PRODID:-//Manor Township - ECPv6.15.20//NONSGML v1.0//EN
CALSCALE:GREGORIAN
METHOD:PUBLISH
X-WR-CALNAME:Manor Township
X-ORIGINAL-URL:https://manortownship.net
X-WR-CALDESC:Events for Manor Township
REFRESH-INTERVAL;VALUE=DURATION:PT1H
X-Robots-Tag:noindex
X-PUBLISHED-TTL:PT1H
BEGIN:VTIMEZONE
TZID:America/New_York
BEGIN:DAYLIGHT
TZOFFSETFROM:-0500
TZOFFSETTO:-0400
TZNAME:EDT
DTSTART:20150308T070000
END:DAYLIGHT
BEGIN:STANDARD
TZOFFSETFROM:-0400
TZOFFSETTO:-0500
TZNAME:EST
DTSTART:20151101T060000
END:STANDARD
BEGIN:DAYLIGHT
TZOFFSETFROM:-0500
TZOFFSETTO:-0400
TZNAME:EDT
DTSTART:20160313T070000
END:DAYLIGHT
BEGIN:STANDARD
TZOFFSETFROM:-0400
TZOFFSETTO:-0500
TZNAME:EST
DTSTART:20161106T060000
END:STANDARD
BEGIN:DAYLIGHT
TZOFFSETFROM:-0500
TZOFFSETTO:-0400
TZNAME:EDT
DTSTART:20170312T070000
END:DAYLIGHT
BEGIN:STANDARD
TZOFFSETFROM:-0400
TZOFFSETTO:-0500
TZNAME:EST
DTSTART:20171105T060000
END:STANDARD
BEGIN:DAYLIGHT
TZOFFSETFROM:-0500
TZOFFSETTO:-0400
TZNAME:EDT
DTSTART:20180311T070000
END:DAYLIGHT
BEGIN:STANDARD
TZOFFSETFROM:-0400
TZOFFSETTO:-0500
TZNAME:EST
DTSTART:20181104T060000
END:STANDARD
END:VTIMEZONE
BEGIN:VEVENT
DTSTART;TZID=America/New_York:20170125T033000
DTEND;TZID=America/New_York:20170125T033000
DTSTAMP:20260422T170917
CREATED:20161227T211424Z
LAST-MODIFIED:20161227T211424Z
UID:10000144-1485315000-1485315000@manortownship.net
SUMMARY:Traffic Commission
DESCRIPTION:
URL:https://manortownship.net/event/traffic-commission-12/2017-01-25/
END:VEVENT
BEGIN:VEVENT
DTSTART;TZID=America/New_York:20170123T140000
DTEND;TZID=America/New_York:20170123T140000
DTSTAMP:20260422T170917
CREATED:20161227T211640Z
LAST-MODIFIED:20161227T211640Z
UID:10000166-1485180000-1485180000@manortownship.net
SUMMARY:Park & Recreation Meeting
DESCRIPTION:
URL:https://manortownship.net/event/park-recreation-meeting/
END:VEVENT
BEGIN:VEVENT
DTSTART;VALUE=DATE:20170121
DTEND;VALUE=DATE:20170123
DTSTAMP:20260422T170917
CREATED:20161228T232229Z
LAST-MODIFIED:20161228T232229Z
UID:10000183-1485025200-1485111599@manortownship.net
SUMMARY:Last Day to Drop Off Christmas Trees
DESCRIPTION:Drop-off locations include: \nCharlestown Park\nGreider Park\nWashington Boro Park\nCreswell Park
URL:https://manortownship.net/event/last-day-to-drop-off-christmas-trees/
END:VEVENT
BEGIN:VEVENT
DTSTART;TZID=America/New_York:20170109T140000
DTEND;TZID=America/New_York:20170109T140000
DTSTAMP:20260422T170917
CREATED:20161227T205726Z
LAST-MODIFIED:20171006T235959Z
UID:10000133-1483970400-1483970400@manortownship.net
SUMMARY:Planning Commission
DESCRIPTION:
URL:https://manortownship.net/event/planning-commission-12/2017-01-09/
LOCATION:Manor Township Municipal Building\, 950 West Fairway Drive\, Lancaster\, PA\, 17603\, United States
GEO:40.0264075;-76.3654509
X-APPLE-STRUCTURED-LOCATION;VALUE=URI;X-ADDRESS=Manor Township Municipal Building 950 West Fairway Drive Lancaster PA 17603 United States;X-APPLE-RADIUS=500;X-TITLE=950 West Fairway Drive:geo:-76.3654509,40.0264075
END:VEVENT
BEGIN:VEVENT
DTSTART;TZID=America/New_York:20170104T140000
DTEND;TZID=America/New_York:20170104T140000
DTSTAMP:20260422T170917
CREATED:20161227T205330Z
LAST-MODIFIED:20161227T222804Z
UID:10000121-1483538400-1483538400@manortownship.net
SUMMARY:Zoning Hearing-Meeting has been cancelled
DESCRIPTION:
URL:https://manortownship.net/event/zoning-hearing-15/
END:VEVENT
BEGIN:VEVENT
DTSTART;TZID=America/New_York:20170103T140000
DTEND;TZID=America/New_York:20170103T140000
DTSTAMP:20260422T170917
CREATED:20161227T204658Z
LAST-MODIFIED:20170203T205556Z
UID:10000108-1483452000-1483452000@manortownship.net
SUMMARY:Supervisors Meeting
DESCRIPTION:Agenda
URL:https://manortownship.net/event/supervisors-meeting-10/
LOCATION:Manor Township Municipal Building\, 950 West Fairway Drive\, Lancaster\, PA\, 17603\, United States
GEO:40.0264075;-76.3654509
X-APPLE-STRUCTURED-LOCATION;VALUE=URI;X-ADDRESS=Manor Township Municipal Building 950 West Fairway Drive Lancaster PA 17603 United States;X-APPLE-RADIUS=500;X-TITLE=950 West Fairway Drive:geo:-76.3654509,40.0264075
END:VEVENT
BEGIN:VEVENT
DTSTART;VALUE=DATE:20170101
DTEND;VALUE=DATE:20170103
DTSTAMP:20260422T170917
CREATED:20161227T213508Z
LAST-MODIFIED:20161227T213508Z
UID:10000172-1483297200-1483383599@manortownship.net
SUMMARY:Office Closed
DESCRIPTION:
URL:https://manortownship.net/event/office-closed-12/
END:VEVENT
BEGIN:VEVENT
DTSTART;TZID=America/New_York:20161228T083000
DTEND;TZID=America/New_York:20161228T090000
DTSTAMP:20260422T170917
CREATED:20160112T151639Z
LAST-MODIFIED:20161222T201401Z
UID:10000099-1482913800-1482915600@manortownship.net
SUMMARY:Traffic Commission - Cancelled due to no new business
DESCRIPTION:
URL:https://manortownship.net/event/traffic-commission-11/
LOCATION:Manor Township Municipal Building\, 950 West Fairway Drive\, Lancaster\, PA\, 17603\, United States
GEO:40.0264075;-76.3654509
X-APPLE-STRUCTURED-LOCATION;VALUE=URI;X-ADDRESS=Manor Township Municipal Building 950 West Fairway Drive Lancaster PA 17603 United States;X-APPLE-RADIUS=500;X-TITLE=950 West Fairway Drive:geo:-76.3654509,40.0264075
END:VEVENT
BEGIN:VEVENT
DTSTART;VALUE=DATE:20161226
DTEND;VALUE=DATE:20161227
DTSTAMP:20260422T170917
CREATED:20160112T151523Z
LAST-MODIFIED:20160112T151523Z
UID:10000098-1482710400-1482796799@manortownship.net
SUMMARY:Office Closed
DESCRIPTION:
URL:https://manortownship.net/event/office-closed-15/
END:VEVENT
BEGIN:VEVENT
DTSTART;TZID=America/New_York:20161212T190000
DTEND;TZID=America/New_York:20161212T210000
DTSTAMP:20260422T170917
CREATED:20160112T151432Z
LAST-MODIFIED:20161212T234845Z
UID:10000097-1481569200-1481576400@manortownship.net
SUMMARY:Planning Commission - Cancelled
DESCRIPTION:
URL:https://manortownship.net/event/planning-commission-11/
END:VEVENT
BEGIN:VEVENT
DTSTART;TZID=America/New_York:20161207T190000
DTEND;TZID=America/New_York:20161207T210000
DTSTAMP:20260422T170917
CREATED:20160112T151339Z
LAST-MODIFIED:20160112T151339Z
UID:10000096-1481137200-1481144400@manortownship.net
SUMMARY:Zoning Hearing
DESCRIPTION:
URL:https://manortownship.net/event/zoning-hearing-14/
LOCATION:Manor Township Municipal Building\, 950 West Fairway Drive\, Lancaster\, PA\, 17603\, United States
GEO:40.0264075;-76.3654509
X-APPLE-STRUCTURED-LOCATION;VALUE=URI;X-ADDRESS=Manor Township Municipal Building 950 West Fairway Drive Lancaster PA 17603 United States;X-APPLE-RADIUS=500;X-TITLE=950 West Fairway Drive:geo:-76.3654509,40.0264075
END:VEVENT
BEGIN:VEVENT
DTSTART;TZID=America/New_York:20161205T190000
DTEND;TZID=America/New_York:20161205T210000
DTSTAMP:20260422T170917
CREATED:20160112T151250Z
LAST-MODIFIED:20160112T151250Z
UID:10000095-1480964400-1480971600@manortownship.net
SUMMARY:Supervisors Meeting
DESCRIPTION:
URL:https://manortownship.net/event/supervisors-meeting-9/
LOCATION:Manor Township Municipal Building\, 950 West Fairway Drive\, Lancaster\, PA\, 17603\, United States
GEO:40.0264075;-76.3654509
X-APPLE-STRUCTURED-LOCATION;VALUE=URI;X-ADDRESS=Manor Township Municipal Building 950 West Fairway Drive Lancaster PA 17603 United States;X-APPLE-RADIUS=500;X-TITLE=950 West Fairway Drive:geo:-76.3654509,40.0264075
END:VEVENT
BEGIN:VEVENT
DTSTART;TZID=America/New_York:20161130T083000
DTEND;TZID=America/New_York:20161130T090000
DTSTAMP:20260422T170917
CREATED:20160112T151205Z
LAST-MODIFIED:20160112T151205Z
UID:10000094-1480494600-1480496400@manortownship.net
SUMMARY:Traffic Commission
DESCRIPTION:
URL:https://manortownship.net/event/traffic-commission-10/
LOCATION:Manor Township Municipal Building\, 950 West Fairway Drive\, Lancaster\, PA\, 17603\, United States
GEO:40.0264075;-76.3654509
X-APPLE-STRUCTURED-LOCATION;VALUE=URI;X-ADDRESS=Manor Township Municipal Building 950 West Fairway Drive Lancaster PA 17603 United States;X-APPLE-RADIUS=500;X-TITLE=950 West Fairway Drive:geo:-76.3654509,40.0264075
END:VEVENT
BEGIN:VEVENT
DTSTART;VALUE=DATE:20161125
DTEND;VALUE=DATE:20161126
DTSTAMP:20260422T170917
CREATED:20160112T151016Z
LAST-MODIFIED:20160112T151016Z
UID:10000093-1480032000-1480118399@manortownship.net
SUMMARY:Office Closed
DESCRIPTION:
URL:https://manortownship.net/event/office-closed-14/
END:VEVENT
BEGIN:VEVENT
DTSTART;VALUE=DATE:20161124
DTEND;VALUE=DATE:20161125
DTSTAMP:20260422T170917
CREATED:20160112T150925Z
LAST-MODIFIED:20160112T150925Z
UID:10000092-1479945600-1480031999@manortownship.net
SUMMARY:Office Closed
DESCRIPTION:
URL:https://manortownship.net/event/office-closed-13/
END:VEVENT
BEGIN:VEVENT
DTSTART;TZID=America/New_York:20161114T190000
DTEND;TZID=America/New_York:20161114T210000
DTSTAMP:20260422T170917
CREATED:20160112T150818Z
LAST-MODIFIED:20160112T150818Z
UID:10000091-1479150000-1479157200@manortownship.net
SUMMARY:Planning Commission
DESCRIPTION:
URL:https://manortownship.net/event/planning-commission-10/
LOCATION:Manor Township Municipal Building\, 950 West Fairway Drive\, Lancaster\, PA\, 17603\, United States
GEO:40.0264075;-76.3654509
X-APPLE-STRUCTURED-LOCATION;VALUE=URI;X-ADDRESS=Manor Township Municipal Building 950 West Fairway Drive Lancaster PA 17603 United States;X-APPLE-RADIUS=500;X-TITLE=950 West Fairway Drive:geo:-76.3654509,40.0264075
END:VEVENT
BEGIN:VEVENT
DTSTART;TZID=America/New_York:20161110T190000
DTEND;TZID=America/New_York:20161110T210000
DTSTAMP:20260422T170917
CREATED:20160112T150728Z
LAST-MODIFIED:20160112T150728Z
UID:10000090-1478804400-1478811600@manortownship.net
SUMMARY:Supervisors Meeting
DESCRIPTION:
URL:https://manortownship.net/event/supervisors-meeting-8/
LOCATION:Manor Township Municipal Building\, 950 West Fairway Drive\, Lancaster\, PA\, 17603\, United States
GEO:40.0264075;-76.3654509
X-APPLE-STRUCTURED-LOCATION;VALUE=URI;X-ADDRESS=Manor Township Municipal Building 950 West Fairway Drive Lancaster PA 17603 United States;X-APPLE-RADIUS=500;X-TITLE=950 West Fairway Drive:geo:-76.3654509,40.0264075
END:VEVENT
BEGIN:VEVENT
DTSTART;VALUE=DATE:20161108
DTEND;VALUE=DATE:20161109
DTSTAMP:20260422T170917
CREATED:20160112T150645Z
LAST-MODIFIED:20160112T150645Z
UID:10000089-1478563200-1478649599@manortownship.net
SUMMARY:Primary Election Day
DESCRIPTION:
URL:https://manortownship.net/event/primary-election-day/
END:VEVENT
BEGIN:VEVENT
DTSTART;TZID=America/New_York:20161102T190000
DTEND;TZID=America/New_York:20161102T210000
DTSTAMP:20260422T170917
CREATED:20160112T150553Z
LAST-MODIFIED:20160112T150553Z
UID:10000088-1478113200-1478120400@manortownship.net
SUMMARY:Zoning Hearing
DESCRIPTION:
URL:https://manortownship.net/event/zoning-hearing-13/
LOCATION:Manor Township Municipal Building\, 950 West Fairway Drive\, Lancaster\, PA\, 17603\, United States
GEO:40.0264075;-76.3654509
X-APPLE-STRUCTURED-LOCATION;VALUE=URI;X-ADDRESS=Manor Township Municipal Building 950 West Fairway Drive Lancaster PA 17603 United States;X-APPLE-RADIUS=500;X-TITLE=950 West Fairway Drive:geo:-76.3654509,40.0264075
END:VEVENT
BEGIN:VEVENT
DTSTART;TZID=America/New_York:20161026T083000
DTEND;TZID=America/New_York:20161026T090000
DTSTAMP:20260422T170917
CREATED:20160112T150305Z
LAST-MODIFIED:20160112T150305Z
UID:10000087-1477470600-1477472400@manortownship.net
SUMMARY:Traffic Commission
DESCRIPTION:
URL:https://manortownship.net/event/traffic-commission-9/
LOCATION:Manor Township Municipal Building\, 950 West Fairway Drive\, Lancaster\, PA\, 17603\, United States
GEO:40.0264075;-76.3654509
X-APPLE-STRUCTURED-LOCATION;VALUE=URI;X-ADDRESS=Manor Township Municipal Building 950 West Fairway Drive Lancaster PA 17603 United States;X-APPLE-RADIUS=500;X-TITLE=950 West Fairway Drive:geo:-76.3654509,40.0264075
END:VEVENT
BEGIN:VEVENT
DTSTART;TZID=America/New_York:20161024T190000
DTEND;TZID=America/New_York:20161024T210000
DTSTAMP:20260422T170917
CREATED:20160112T150210Z
LAST-MODIFIED:20160112T150210Z
UID:10000086-1477335600-1477342800@manortownship.net
SUMMARY:Park & Recreation
DESCRIPTION:
URL:https://manortownship.net/event/park-recreation-4/
LOCATION:Manor Township Municipal Building\, 950 West Fairway Drive\, Lancaster\, PA\, 17603\, United States
GEO:40.0264075;-76.3654509
X-APPLE-STRUCTURED-LOCATION;VALUE=URI;X-ADDRESS=Manor Township Municipal Building 950 West Fairway Drive Lancaster PA 17603 United States;X-APPLE-RADIUS=500;X-TITLE=950 West Fairway Drive:geo:-76.3654509,40.0264075
END:VEVENT
BEGIN:VEVENT
DTSTART;TZID=America/New_York:20161011T190000
DTEND;TZID=America/New_York:20161011T210000
DTSTAMP:20260422T170917
CREATED:20160112T145940Z
LAST-MODIFIED:20160112T145940Z
UID:10000085-1476212400-1476219600@manortownship.net
SUMMARY:Planning Commission
DESCRIPTION:
URL:https://manortownship.net/event/planning-commission-9/
LOCATION:Manor Township Municipal Building\, 950 West Fairway Drive\, Lancaster\, PA\, 17603\, United States
GEO:40.0264075;-76.3654509
X-APPLE-STRUCTURED-LOCATION;VALUE=URI;X-ADDRESS=Manor Township Municipal Building 950 West Fairway Drive Lancaster PA 17603 United States;X-APPLE-RADIUS=500;X-TITLE=950 West Fairway Drive:geo:-76.3654509,40.0264075
END:VEVENT
BEGIN:VEVENT
DTSTART;VALUE=DATE:20161010
DTEND;VALUE=DATE:20161011
DTSTAMP:20260422T170917
CREATED:20160112T152958Z
LAST-MODIFIED:20160112T152958Z
UID:10000101-1476057600-1476143999@manortownship.net
SUMMARY:Office Closed
DESCRIPTION:Closed for Columbus Day
URL:https://manortownship.net/event/office-closed-17/
END:VEVENT
BEGIN:VEVENT
DTSTART;TZID=America/New_York:20161005T190000
DTEND;TZID=America/New_York:20161005T210000
DTSTAMP:20260422T170917
CREATED:20160112T145757Z
LAST-MODIFIED:20160112T145757Z
UID:10000084-1475694000-1475701200@manortownship.net
SUMMARY:Zoning Hearing
DESCRIPTION:
URL:https://manortownship.net/event/zoning-hearing-12/
LOCATION:Manor Township Municipal Building\, 950 West Fairway Drive\, Lancaster\, PA\, 17603\, United States
GEO:40.0264075;-76.3654509
X-APPLE-STRUCTURED-LOCATION;VALUE=URI;X-ADDRESS=Manor Township Municipal Building 950 West Fairway Drive Lancaster PA 17603 United States;X-APPLE-RADIUS=500;X-TITLE=950 West Fairway Drive:geo:-76.3654509,40.0264075
END:VEVENT
BEGIN:VEVENT
DTSTART;TZID=America/New_York:20161003T190000
DTEND;TZID=America/New_York:20161003T210000
DTSTAMP:20260422T170917
CREATED:20160112T145707Z
LAST-MODIFIED:20160112T145707Z
UID:10000083-1475521200-1475528400@manortownship.net
SUMMARY:Supervisors Meeting
DESCRIPTION:
URL:https://manortownship.net/event/supervisors-meeting-7/
LOCATION:Manor Township Municipal Building\, 950 West Fairway Drive\, Lancaster\, PA\, 17603\, United States
GEO:40.0264075;-76.3654509
X-APPLE-STRUCTURED-LOCATION;VALUE=URI;X-ADDRESS=Manor Township Municipal Building 950 West Fairway Drive Lancaster PA 17603 United States;X-APPLE-RADIUS=500;X-TITLE=950 West Fairway Drive:geo:-76.3654509,40.0264075
END:VEVENT
BEGIN:VEVENT
DTSTART;TZID=America/New_York:20160928T083000
DTEND;TZID=America/New_York:20160928T090000
DTSTAMP:20260422T170917
CREATED:20160112T145416Z
LAST-MODIFIED:20160112T145416Z
UID:10000081-1475051400-1475053200@manortownship.net
SUMMARY:Traffic Commission
DESCRIPTION:
URL:https://manortownship.net/event/traffic-commission-8/
LOCATION:Manor Township Municipal Building\, 950 West Fairway Drive\, Lancaster\, PA\, 17603\, United States
GEO:40.0264075;-76.3654509
X-APPLE-STRUCTURED-LOCATION;VALUE=URI;X-ADDRESS=Manor Township Municipal Building 950 West Fairway Drive Lancaster PA 17603 United States;X-APPLE-RADIUS=500;X-TITLE=950 West Fairway Drive:geo:-76.3654509,40.0264075
END:VEVENT
BEGIN:VEVENT
DTSTART;TZID=America/New_York:20160912T190000
DTEND;TZID=America/New_York:20160912T210000
DTSTAMP:20260422T170917
CREATED:20160112T145248Z
LAST-MODIFIED:20160112T145248Z
UID:10000080-1473706800-1473714000@manortownship.net
SUMMARY:Planning Commission
DESCRIPTION:
URL:https://manortownship.net/event/planning-commission-8/
LOCATION:Manor Township Municipal Building\, 950 West Fairway Drive\, Lancaster\, PA\, 17603\, United States
GEO:40.0264075;-76.3654509
X-APPLE-STRUCTURED-LOCATION;VALUE=URI;X-ADDRESS=Manor Township Municipal Building 950 West Fairway Drive Lancaster PA 17603 United States;X-APPLE-RADIUS=500;X-TITLE=950 West Fairway Drive:geo:-76.3654509,40.0264075
END:VEVENT
BEGIN:VEVENT
DTSTART;TZID=America/New_York:20160907T190000
DTEND;TZID=America/New_York:20160907T210000
DTSTAMP:20260422T170917
CREATED:20160112T145150Z
LAST-MODIFIED:20160112T145150Z
UID:10000079-1473274800-1473282000@manortownship.net
SUMMARY:Zoning Hearing
DESCRIPTION:
URL:https://manortownship.net/event/zoning-hearing-11/
LOCATION:Manor Township Municipal Building\, 950 West Fairway Drive\, Lancaster\, PA\, 17603\, United States
GEO:40.0264075;-76.3654509
X-APPLE-STRUCTURED-LOCATION;VALUE=URI;X-ADDRESS=Manor Township Municipal Building 950 West Fairway Drive Lancaster PA 17603 United States;X-APPLE-RADIUS=500;X-TITLE=950 West Fairway Drive:geo:-76.3654509,40.0264075
END:VEVENT
BEGIN:VEVENT
DTSTART;TZID=America/New_York:20160906T190000
DTEND;TZID=America/New_York:20160906T210000
DTSTAMP:20260422T170917
CREATED:20160112T144850Z
LAST-MODIFIED:20160112T144850Z
UID:10000078-1473188400-1473195600@manortownship.net
SUMMARY:Supervisors Meeting
DESCRIPTION:
URL:https://manortownship.net/event/supervisors-meeting-6/
LOCATION:Manor Township Municipal Building\, 950 West Fairway Drive\, Lancaster\, PA\, 17603\, United States
GEO:40.0264075;-76.3654509
X-APPLE-STRUCTURED-LOCATION;VALUE=URI;X-ADDRESS=Manor Township Municipal Building 950 West Fairway Drive Lancaster PA 17603 United States;X-APPLE-RADIUS=500;X-TITLE=950 West Fairway Drive:geo:-76.3654509,40.0264075
END:VEVENT
BEGIN:VEVENT
DTSTART;VALUE=DATE:20160905
DTEND;VALUE=DATE:20160906
DTSTAMP:20260422T170917
CREATED:20160112T145545Z
LAST-MODIFIED:20160112T145545Z
UID:10000082-1473033600-1473119999@manortownship.net
SUMMARY:Office Closed
DESCRIPTION:
URL:https://manortownship.net/event/office-closed-11/
END:VEVENT
END:VCALENDAR