BEGIN:VCALENDAR
VERSION:2.0
PRODID:-//Manor Township - ECPv6.15.20//NONSGML v1.0//EN
CALSCALE:GREGORIAN
METHOD:PUBLISH
X-WR-CALNAME:Manor Township
X-ORIGINAL-URL:https://manortownship.net
X-WR-CALDESC:Events for Manor Township
REFRESH-INTERVAL;VALUE=DURATION:PT1H
X-Robots-Tag:noindex
X-PUBLISHED-TTL:PT1H
BEGIN:VTIMEZONE
TZID:America/New_York
BEGIN:DAYLIGHT
TZOFFSETFROM:-0500
TZOFFSETTO:-0400
TZNAME:EDT
DTSTART:20160313T070000
END:DAYLIGHT
BEGIN:STANDARD
TZOFFSETFROM:-0400
TZOFFSETTO:-0500
TZNAME:EST
DTSTART:20161106T060000
END:STANDARD
BEGIN:DAYLIGHT
TZOFFSETFROM:-0500
TZOFFSETTO:-0400
TZNAME:EDT
DTSTART:20170312T070000
END:DAYLIGHT
BEGIN:STANDARD
TZOFFSETFROM:-0400
TZOFFSETTO:-0500
TZNAME:EST
DTSTART:20171105T060000
END:STANDARD
BEGIN:DAYLIGHT
TZOFFSETFROM:-0500
TZOFFSETTO:-0400
TZNAME:EDT
DTSTART:20180311T070000
END:DAYLIGHT
BEGIN:STANDARD
TZOFFSETFROM:-0400
TZOFFSETTO:-0500
TZNAME:EST
DTSTART:20181104T060000
END:STANDARD
BEGIN:DAYLIGHT
TZOFFSETFROM:-0500
TZOFFSETTO:-0400
TZNAME:EDT
DTSTART:20190310T070000
END:DAYLIGHT
BEGIN:STANDARD
TZOFFSETFROM:-0400
TZOFFSETTO:-0500
TZNAME:EST
DTSTART:20191103T060000
END:STANDARD
END:VTIMEZONE
BEGIN:VEVENT
DTSTART;TZID=America/New_York:20180312T150000
DTEND;TZID=America/New_York:20180312T170000
DTSTAMP:20260420T221356
CREATED:20171228T011955Z
LAST-MODIFIED:20180308T013700Z
UID:10000237-1520866800-1520874000@manortownship.net
SUMMARY:Planning Commission Meeting-Cancelled due to no new business
DESCRIPTION:
URL:https://manortownship.net/event/planning-commission-meeting-2-2018-03-12/
LOCATION:Manor Township Municipal Building\, 950 West Fairway Drive\, Lancaster\, PA\, 17603\, United States
GEO:40.0264075;-76.3654509
X-APPLE-STRUCTURED-LOCATION;VALUE=URI;X-ADDRESS=Manor Township Municipal Building 950 West Fairway Drive Lancaster PA 17603 United States;X-APPLE-RADIUS=500;X-TITLE=950 West Fairway Drive:geo:-76.3654509,40.0264075
END:VEVENT
BEGIN:VEVENT
DTSTART;TZID=America/New_York:20180305T140000
DTEND;TZID=America/New_York:20180305T160000
DTSTAMP:20260420T221356
CREATED:20171228T010631Z
LAST-MODIFIED:20180302T201748Z
UID:10000202-1520258400-1520265600@manortownship.net
SUMMARY:Supervisors Meeting-Cancelled due to no new business
DESCRIPTION:
URL:https://manortownship.net/event/supervisors-meeting-13-2018-03-05/
LOCATION:Manor Township Municipal Building\, 950 West Fairway Drive\, Lancaster\, PA\, 17603\, United States
GEO:40.0264075;-76.3654509
X-APPLE-STRUCTURED-LOCATION;VALUE=URI;X-ADDRESS=Manor Township Municipal Building 950 West Fairway Drive Lancaster PA 17603 United States;X-APPLE-RADIUS=500;X-TITLE=950 West Fairway Drive:geo:-76.3654509,40.0264075
END:VEVENT
BEGIN:VEVENT
DTSTART;TZID=America/New_York:20180227T140000
DTEND;TZID=America/New_York:20180227T160000
DTSTAMP:20260420T221356
CREATED:20180119T201026Z
LAST-MODIFIED:20180124T012519Z
UID:10000301-1519740000-1519747200@manortownship.net
SUMMARY:Zoning Hearing-Special Meeting
DESCRIPTION:
URL:https://manortownship.net/event/zoning-hearing-special-meeting-2018-02-27/2018-02-27/
END:VEVENT
BEGIN:VEVENT
DTSTART;VALUE=DATE:20180218
DTEND;VALUE=DATE:20180220
DTSTAMP:20260420T221356
CREATED:20171228T013416Z
LAST-MODIFIED:20171228T021230Z
UID:10000293-1518980400-1519066799@manortownship.net
SUMMARY:Office Closed-Presidents Day
DESCRIPTION:
URL:https://manortownship.net/event/office-closed-27/
LOCATION:Manor Township Municipal Building\, 950 West Fairway Drive\, Lancaster\, PA\, 17603\, United States
GEO:40.0264075;-76.3654509
X-APPLE-STRUCTURED-LOCATION;VALUE=URI;X-ADDRESS=Manor Township Municipal Building 950 West Fairway Drive Lancaster PA 17603 United States;X-APPLE-RADIUS=500;X-TITLE=950 West Fairway Drive:geo:-76.3654509,40.0264075
END:VEVENT
BEGIN:VEVENT
DTSTART;TZID=America/New_York:20180212T140000
DTEND;TZID=America/New_York:20180212T160000
DTSTAMP:20260420T221356
CREATED:20171228T011955Z
LAST-MODIFIED:20180205T231700Z
UID:10000236-1518444000-1518451200@manortownship.net
SUMMARY:Planning Commission Meeting-Cancelled
DESCRIPTION:
URL:https://manortownship.net/event/planning-commission-meeting-2-2018-02-12/
LOCATION:Manor Township Municipal Building\, 950 West Fairway Drive\, Lancaster\, PA\, 17603\, United States
GEO:40.0264075;-76.3654509
X-APPLE-STRUCTURED-LOCATION;VALUE=URI;X-ADDRESS=Manor Township Municipal Building 950 West Fairway Drive Lancaster PA 17603 United States;X-APPLE-RADIUS=500;X-TITLE=950 West Fairway Drive:geo:-76.3654509,40.0264075
END:VEVENT
BEGIN:VEVENT
DTSTART;TZID=America/New_York:20180122T140000
DTEND;TZID=America/New_York:20180122T160000
DTSTAMP:20260420T221356
CREATED:20180119T201427Z
LAST-MODIFIED:20180416T213047Z
UID:10000306-1516629600-1516636800@manortownship.net
SUMMARY:Park & Recreation Meeting
DESCRIPTION:
URL:https://manortownship.net/event/park-recreation-meeting-5/2018-01-22/
END:VEVENT
BEGIN:VEVENT
DTSTART;TZID=America/New_York:20180108T140000
DTEND;TZID=America/New_York:20180108T160000
DTSTAMP:20260420T221356
CREATED:20171228T011955Z
LAST-MODIFIED:20171228T194014Z
UID:10000235-1515420000-1515427200@manortownship.net
SUMMARY:Planning Commission Meeting has been cancelled
DESCRIPTION:
URL:https://manortownship.net/event/planning-commission-meeting-2/
LOCATION:Manor Township Municipal Building\, 950 West Fairway Drive\, Lancaster\, PA\, 17603\, United States
GEO:40.0264075;-76.3654509
X-APPLE-STRUCTURED-LOCATION;VALUE=URI;X-ADDRESS=Manor Township Municipal Building 950 West Fairway Drive Lancaster PA 17603 United States;X-APPLE-RADIUS=500;X-TITLE=950 West Fairway Drive:geo:-76.3654509,40.0264075
END:VEVENT
BEGIN:VEVENT
DTSTART;VALUE=DATE:20171231
DTEND;VALUE=DATE:20180102
DTSTAMP:20260420T221356
CREATED:20171023T210719Z
LAST-MODIFIED:20171023T210719Z
UID:10000199-1514746800-1514833199@manortownship.net
SUMMARY:Office Closed-Happy New Year!
DESCRIPTION:
URL:https://manortownship.net/event/office-closed-happy-new-year/
END:VEVENT
BEGIN:VEVENT
DTSTART;VALUE=DATE:20171225
DTEND;VALUE=DATE:20171227
DTSTAMP:20260420T221356
CREATED:20161229T015021Z
LAST-MODIFIED:20161229T015021Z
UID:10000195-1514228400-1514314799@manortownship.net
SUMMARY:First Day to Drop-off Christmas Trees
DESCRIPTION:Drop-off locations include: \nCharlestown Park\nGreider Park\nWashington Boro Park\nCreswell Park
URL:https://manortownship.net/event/first-day-to-drop-off-christmas-trees/
END:VEVENT
BEGIN:VEVENT
DTSTART;TZID=America/New_York:20171225T033000
DTEND;TZID=America/New_York:20171225T033000
DTSTAMP:20260420T221356
CREATED:20161227T211424Z
LAST-MODIFIED:20161227T211424Z
UID:10000155-1514172600-1514172600@manortownship.net
SUMMARY:Traffic Commission
DESCRIPTION:
URL:https://manortownship.net/event/traffic-commission-12/2017-12-25/
END:VEVENT
BEGIN:VEVENT
DTSTART;VALUE=DATE:20171224
DTEND;VALUE=DATE:20171226
DTSTAMP:20260420T221356
CREATED:20161227T214541Z
LAST-MODIFIED:20161227T214541Z
UID:10000181-1514142000-1514228399@manortownship.net
SUMMARY:Office Closed
DESCRIPTION:
URL:https://manortownship.net/event/office-closed-26/
END:VEVENT
BEGIN:VEVENT
DTSTART;TZID=America/New_York:20171211T140000
DTEND;TZID=America/New_York:20171211T140000
DTSTAMP:20260420T221356
CREATED:20161227T205726Z
LAST-MODIFIED:20171006T235959Z
UID:10000140-1513000800-1513000800@manortownship.net
SUMMARY:Planning Commission
DESCRIPTION:
URL:https://manortownship.net/event/planning-commission-12/2017-12-11/
LOCATION:Manor Township Municipal Building\, 950 West Fairway Drive\, Lancaster\, PA\, 17603\, United States
GEO:40.0264075;-76.3654509
X-APPLE-STRUCTURED-LOCATION;VALUE=URI;X-ADDRESS=Manor Township Municipal Building 950 West Fairway Drive Lancaster PA 17603 United States;X-APPLE-RADIUS=500;X-TITLE=950 West Fairway Drive:geo:-76.3654509,40.0264075
END:VEVENT
BEGIN:VEVENT
DTSTART;TZID=America/New_York:20171206T140000
DTEND;TZID=America/New_York:20171206T140000
DTSTAMP:20260420T221356
CREATED:20161227T205330Z
LAST-MODIFIED:20170518T223928Z
UID:10000132-1512568800-1512568800@manortownship.net
SUMMARY:Zoning Hearing
DESCRIPTION:
URL:https://manortownship.net/event/zoning-hearing-15-2017-04-05-2017-12-05/
END:VEVENT
BEGIN:VEVENT
DTSTART;TZID=America/New_York:20171206T140000
DTEND;TZID=America/New_York:20171206T140000
DTSTAMP:20260420T221356
CREATED:20161227T204658Z
LAST-MODIFIED:20170203T185936Z
UID:10000119-1512568800-1512568800@manortownship.net
SUMMARY:Supervisors Meeting
DESCRIPTION:
URL:https://manortownship.net/event/supervisors-meeting-10-2017-03-06/2017-12-06/
LOCATION:Manor Township Municipal Building\, 950 West Fairway Drive\, Lancaster\, PA\, 17603\, United States
GEO:40.0264075;-76.3654509
X-APPLE-STRUCTURED-LOCATION;VALUE=URI;X-ADDRESS=Manor Township Municipal Building 950 West Fairway Drive Lancaster PA 17603 United States;X-APPLE-RADIUS=500;X-TITLE=950 West Fairway Drive:geo:-76.3654509,40.0264075
END:VEVENT
BEGIN:VEVENT
DTSTART;TZID=America/New_York:20171125T033000
DTEND;TZID=America/New_York:20171125T033000
DTSTAMP:20260420T221356
CREATED:20161227T211424Z
LAST-MODIFIED:20161227T211424Z
UID:10000154-1511580600-1511580600@manortownship.net
SUMMARY:Traffic Commission
DESCRIPTION:
URL:https://manortownship.net/event/traffic-commission-12/2017-11-25/
END:VEVENT
BEGIN:VEVENT
DTSTART;TZID=America/New_York:20171124T030000
DTEND;TZID=America/New_York:20171125T120000
DTSTAMP:20260420T221356
CREATED:20161227T214449Z
LAST-MODIFIED:20161227T214449Z
UID:10000180-1511492400-1511611200@manortownship.net
SUMMARY:Office Closed
DESCRIPTION:
URL:https://manortownship.net/event/office-closed-25/
END:VEVENT
BEGIN:VEVENT
DTSTART;TZID=America/New_York:20171113T140000
DTEND;TZID=America/New_York:20171113T140000
DTSTAMP:20260420T221356
CREATED:20161227T205726Z
LAST-MODIFIED:20171108T223217Z
UID:10000143-1510581600-1510581600@manortownship.net
SUMMARY:Planning Commission-Meeting Cancelled
DESCRIPTION:
URL:https://manortownship.net/event/planning-commission-12-2017-11-13/
LOCATION:Manor Township Municipal Building\, 950 West Fairway Drive\, Lancaster\, PA\, 17603\, United States
GEO:40.0264075;-76.3654509
X-APPLE-STRUCTURED-LOCATION;VALUE=URI;X-ADDRESS=Manor Township Municipal Building 950 West Fairway Drive Lancaster PA 17603 United States;X-APPLE-RADIUS=500;X-TITLE=950 West Fairway Drive:geo:-76.3654509,40.0264075
END:VEVENT
BEGIN:VEVENT
DTSTART;TZID=America/New_York:20171109T140000
DTEND;TZID=America/New_York:20171109T140000
DTSTAMP:20260420T221356
CREATED:20161227T213406Z
LAST-MODIFIED:20161227T213406Z
UID:10000171-1510236000-1510236000@manortownship.net
SUMMARY:Supervisors Meeting
DESCRIPTION:
URL:https://manortownship.net/event/supervisors-meeting-12/
END:VEVENT
BEGIN:VEVENT
DTSTART;VALUE=DATE:20171106
DTEND;VALUE=DATE:20171108
DTSTAMP:20260420T221356
CREATED:20161229T014750Z
LAST-MODIFIED:20161229T014750Z
UID:10000194-1509994800-1510081199@manortownship.net
SUMMARY:Election Day
DESCRIPTION:
URL:https://manortownship.net/event/election-day-2/
END:VEVENT
BEGIN:VEVENT
DTSTART;TZID=America/New_York:20171106T140000
DTEND;TZID=America/New_York:20171106T140000
DTSTAMP:20260420T221356
CREATED:20161227T204658Z
LAST-MODIFIED:20170203T185936Z
UID:10000118-1509976800-1509976800@manortownship.net
SUMMARY:Supervisors Meeting
DESCRIPTION:
URL:https://manortownship.net/event/supervisors-meeting-10-2017-03-06/2017-11-06/
LOCATION:Manor Township Municipal Building\, 950 West Fairway Drive\, Lancaster\, PA\, 17603\, United States
GEO:40.0264075;-76.3654509
X-APPLE-STRUCTURED-LOCATION;VALUE=URI;X-ADDRESS=Manor Township Municipal Building 950 West Fairway Drive Lancaster PA 17603 United States;X-APPLE-RADIUS=500;X-TITLE=950 West Fairway Drive:geo:-76.3654509,40.0264075
END:VEVENT
BEGIN:VEVENT
DTSTART;TZID=America/New_York:20171105T030000
DTEND;TZID=America/New_York:20171105T120000
DTSTAMP:20260420T221356
CREATED:20161230T231534Z
LAST-MODIFIED:20161230T231534Z
UID:10000197-1509850800-1509883200@manortownship.net
SUMMARY:Daylight Savings - Fall Back
DESCRIPTION:
URL:https://manortownship.net/event/daylight-savings-fall-back/
END:VEVENT
BEGIN:VEVENT
DTSTART;TZID=America/New_York:20171101T150000
DTEND;TZID=America/New_York:20171101T150000
DTSTAMP:20260420T221356
CREATED:20161227T205330Z
LAST-MODIFIED:20171017T234007Z
UID:10000131-1509548400-1509548400@manortownship.net
SUMMARY:Zoning Hearing-Meeting Cancelled
DESCRIPTION:
URL:https://manortownship.net/event/zoning-hearing-15-2017-04-05-2017-11-05/
END:VEVENT
BEGIN:VEVENT
DTSTART;TZID=America/New_York:20171031T140000
DTEND;TZID=America/New_York:20171031T160000
DTSTAMP:20260420T221356
CREATED:20171027T004559Z
LAST-MODIFIED:20171026T210149Z
UID:10000201-1509458400-1509465600@manortownship.net
SUMMARY:Halloween
DESCRIPTION:
URL:https://manortownship.net/event/halloween/
END:VEVENT
BEGIN:VEVENT
DTSTART;TZID=America/New_York:20171031T140000
DTEND;TZID=America/New_York:20171031T160000
DTSTAMP:20260420T221356
CREATED:20171026T211648Z
LAST-MODIFIED:20171026T211648Z
UID:10000200-1509458400-1509465600@manortownship.net
SUMMARY:Halloween - Trick or Treat
DESCRIPTION:
URL:https://manortownship.net/event/halloween-trick-or-treat/
END:VEVENT
BEGIN:VEVENT
DTSTART;TZID=America/New_York:20171025T043000
DTEND;TZID=America/New_York:20171025T043000
DTSTAMP:20260420T221356
CREATED:20161227T211424Z
LAST-MODIFIED:20161227T211424Z
UID:10000153-1508905800-1508905800@manortownship.net
SUMMARY:Traffic Commission
DESCRIPTION:
URL:https://manortownship.net/event/traffic-commission-12/2017-10-25/
END:VEVENT
BEGIN:VEVENT
DTSTART;TZID=America/New_York:20171023T150000
DTEND;TZID=America/New_York:20171023T150000
DTSTAMP:20260420T221356
CREATED:20161227T212257Z
LAST-MODIFIED:20171023T170016Z
UID:10000169-1508770800-1508770800@manortownship.net
SUMMARY:Park & Recreation Meeting-Cancelled
DESCRIPTION:
URL:https://manortownship.net/event/park-recreation-meeting-4/
END:VEVENT
BEGIN:VEVENT
DTSTART;TZID=America/New_York:20171017T150000
DTEND;TZID=America/New_York:20171017T150000
DTSTAMP:20260420T221356
CREATED:20161227T205330Z
LAST-MODIFIED:20170913T165407Z
UID:10000130-1508252400-1508252400@manortownship.net
SUMMARY:Zoning Hearing
DESCRIPTION:
URL:https://manortownship.net/event/zoning-hearing-15-2017-04-05-2017-10-05/
END:VEVENT
BEGIN:VEVENT
DTSTART;TZID=America/New_York:20171010T150000
DTEND;TZID=America/New_York:20171010T150000
DTSTAMP:20260420T221356
CREATED:20161227T222006Z
LAST-MODIFIED:20171007T001128Z
UID:10000182-1507647600-1507647600@manortownship.net
SUMMARY:Planning Commission Meeting - Cancelled!
DESCRIPTION:Cancelled.
URL:https://manortownship.net/event/planning-commission-meeting/
END:VEVENT
BEGIN:VEVENT
DTSTART;VALUE=DATE:20171008
DTEND;VALUE=DATE:20171010
DTSTAMP:20260420T221356
CREATED:20161227T214328Z
LAST-MODIFIED:20161227T214328Z
UID:10000179-1507492800-1507579199@manortownship.net
SUMMARY:Office Closed
DESCRIPTION:
URL:https://manortownship.net/event/office-closed-24/
END:VEVENT
BEGIN:VEVENT
DTSTART;TZID=America/New_York:20171006T150000
DTEND;TZID=America/New_York:20171006T150000
DTSTAMP:20260420T221356
CREATED:20161227T204658Z
LAST-MODIFIED:20170203T185936Z
UID:10000117-1507302000-1507302000@manortownship.net
SUMMARY:Supervisors Meeting
DESCRIPTION:
URL:https://manortownship.net/event/supervisors-meeting-10-2017-03-06/2017-10-06/
LOCATION:Manor Township Municipal Building\, 950 West Fairway Drive\, Lancaster\, PA\, 17603\, United States
GEO:40.0264075;-76.3654509
X-APPLE-STRUCTURED-LOCATION;VALUE=URI;X-ADDRESS=Manor Township Municipal Building 950 West Fairway Drive Lancaster PA 17603 United States;X-APPLE-RADIUS=500;X-TITLE=950 West Fairway Drive:geo:-76.3654509,40.0264075
END:VEVENT
END:VCALENDAR