BEGIN:VCALENDAR
VERSION:2.0
PRODID:-//Manor Township - ECPv6.15.20//NONSGML v1.0//EN
CALSCALE:GREGORIAN
METHOD:PUBLISH
X-WR-CALNAME:Manor Township
X-ORIGINAL-URL:https://manortownship.net
X-WR-CALDESC:Events for Manor Township
REFRESH-INTERVAL;VALUE=DURATION:PT1H
X-Robots-Tag:noindex
X-PUBLISHED-TTL:PT1H
BEGIN:VTIMEZONE
TZID:America/New_York
BEGIN:DAYLIGHT
TZOFFSETFROM:-0500
TZOFFSETTO:-0400
TZNAME:EDT
DTSTART:20180311T070000
END:DAYLIGHT
BEGIN:STANDARD
TZOFFSETFROM:-0400
TZOFFSETTO:-0500
TZNAME:EST
DTSTART:20181104T060000
END:STANDARD
BEGIN:DAYLIGHT
TZOFFSETFROM:-0500
TZOFFSETTO:-0400
TZNAME:EDT
DTSTART:20190310T070000
END:DAYLIGHT
BEGIN:STANDARD
TZOFFSETFROM:-0400
TZOFFSETTO:-0500
TZNAME:EST
DTSTART:20191103T060000
END:STANDARD
BEGIN:DAYLIGHT
TZOFFSETFROM:-0500
TZOFFSETTO:-0400
TZNAME:EDT
DTSTART:20200308T070000
END:DAYLIGHT
BEGIN:STANDARD
TZOFFSETFROM:-0400
TZOFFSETTO:-0500
TZNAME:EST
DTSTART:20201101T060000
END:STANDARD
BEGIN:DAYLIGHT
TZOFFSETFROM:-0500
TZOFFSETTO:-0400
TZNAME:EDT
DTSTART:20210314T070000
END:DAYLIGHT
BEGIN:STANDARD
TZOFFSETFROM:-0400
TZOFFSETTO:-0500
TZNAME:EST
DTSTART:20211107T060000
END:STANDARD
END:VTIMEZONE
BEGIN:VEVENT
DTSTART;TZID=America/New_York:20200727T150000
DTEND;TZID=America/New_York:20200727T170000
DTSTAMP:20260419T174815
CREATED:20181129T212758Z
LAST-MODIFIED:20200724T224412Z
UID:10000334-1595862000-1595869200@manortownship.net
SUMMARY:Park & Recreation Meeting - CANCELLED
DESCRIPTION:
URL:https://manortownship.net/event/park-recreation-meeting-6-2020-07-27/
LOCATION:PA
END:VEVENT
BEGIN:VEVENT
DTSTART;VALUE=DATE:20200702
DTEND;VALUE=DATE:20200704
DTSTAMP:20260419T174815
CREATED:20200211T012254Z
LAST-MODIFIED:20200211T012254Z
UID:10000355-1593720000-1593806399@manortownship.net
SUMMARY:Office Closed
DESCRIPTION:
URL:https://manortownship.net/event/office-closed-29/
LOCATION:PA
END:VEVENT
BEGIN:VEVENT
DTSTART;TZID=America/New_York:20200610T150000
DTEND;TZID=America/New_York:20200610T170000
DTSTAMP:20260419T174815
CREATED:20200527T181402Z
LAST-MODIFIED:20200527T181843Z
UID:10000364-1591801200-1591808400@manortownship.net
SUMMARY:Zoning Hearing Board Meeting
DESCRIPTION:
URL:https://manortownship.net/event/zoning-hearing-board-meeting-5/
LOCATION:PA
END:VEVENT
BEGIN:VEVENT
DTSTART;VALUE=DATE:20200601
DTEND;VALUE=DATE:20200603
DTSTAMP:20260419T174815
CREATED:20200330T235433Z
LAST-MODIFIED:20200330T235452Z
UID:10000361-1591041600-1591127999@manortownship.net
SUMMARY:OFFICE CLOSED - Primary Election Day
DESCRIPTION:
URL:https://manortownship.net/event/office-closed-primary-election-day/
LOCATION:PA
END:VEVENT
BEGIN:VEVENT
DTSTART;VALUE=DATE:20200524
DTEND;VALUE=DATE:20200526
DTSTAMP:20260419T174815
CREATED:20200211T010401Z
LAST-MODIFIED:20200211T010416Z
UID:10000353-1590350400-1590436799@manortownship.net
SUMMARY:Office Closed - Memorial Day
DESCRIPTION:  \n 
URL:https://manortownship.net/event/office-closed-memorial-day-3/
LOCATION:PA
END:VEVENT
BEGIN:VEVENT
DTSTART;TZID=America/New_York:20200513T150000
DTEND;TZID=America/New_York:20200513T170000
DTSTAMP:20260419T174815
CREATED:20200501T193911Z
LAST-MODIFIED:20200501T193911Z
UID:10000363-1589382000-1589389200@manortownship.net
SUMMARY:Zoning Hearing Board Meeting
DESCRIPTION:
URL:https://manortownship.net/event/zoning-hearing-board-meeting-4/
LOCATION:PA
END:VEVENT
BEGIN:VEVENT
DTSTART;TZID=America/New_York:20200429T150000
DTEND;TZID=America/New_York:20200429T170000
DTSTAMP:20260419T174815
CREATED:20200424T200850Z
LAST-MODIFIED:20200424T200910Z
UID:10000362-1588172400-1588179600@manortownship.net
SUMMARY:Zoning Hearing Board Meeting
DESCRIPTION:
URL:https://manortownship.net/event/zoning-hearing-board-meeting-3/
LOCATION:PA
END:VEVENT
BEGIN:VEVENT
DTSTART;TZID=America/New_York:20200427T190000
DTEND;TZID=America/New_York:20200427T210000
DTSTAMP:20260419T174815
CREATED:20181129T212758Z
LAST-MODIFIED:20210308T172120Z
UID:10000317-1588014000-1588021200@manortownship.net
SUMMARY:Park & Recreation Meeting
DESCRIPTION:
URL:https://manortownship.net/event/park-recreation-meeting-6/2020-04-27/
LOCATION:PA
END:VEVENT
BEGIN:VEVENT
DTSTART;VALUE=DATE:20200409
DTEND;VALUE=DATE:20200411
DTSTAMP:20260419T174815
CREATED:20200211T010212Z
LAST-MODIFIED:20200211T010225Z
UID:10000352-1586462400-1586548799@manortownship.net
SUMMARY:Office Closed - Good Friday
DESCRIPTION:
URL:https://manortownship.net/event/office-closed-good-friday-3/
LOCATION:PA
END:VEVENT
BEGIN:VEVENT
DTSTART;TZID=America/New_York:20200407T150000
DTEND;TZID=America/New_York:20200407T170000
DTSTAMP:20260419T174815
CREATED:20200320T193812Z
LAST-MODIFIED:20200320T195344Z
UID:10000360-1586271600-1586278800@manortownship.net
SUMMARY:UCC Board of Appeals
DESCRIPTION:Public Notice – Grace Baptist Church
URL:https://manortownship.net/event/ucc-board-of-appeals/
LOCATION:PA
END:VEVENT
BEGIN:VEVENT
DTSTART;VALUE=DATE:20200216
DTEND;VALUE=DATE:20200218
DTSTAMP:20260419T174815
CREATED:20200211T005226Z
LAST-MODIFIED:20200211T005714Z
UID:10000351-1581879600-1581965999@manortownship.net
SUMMARY:Office Closed - President's Day
DESCRIPTION:
URL:https://manortownship.net/event/office-closed-presidents-day-2/
LOCATION:PA
END:VEVENT
BEGIN:VEVENT
DTSTART;TZID=America/New_York:20200127T190000
DTEND;TZID=America/New_York:20200127T210000
DTSTAMP:20260419T174815
CREATED:20181129T212758Z
LAST-MODIFIED:20210308T172120Z
UID:10000316-1580151600-1580158800@manortownship.net
SUMMARY:Park & Recreation Meeting
DESCRIPTION:
URL:https://manortownship.net/event/park-recreation-meeting-6/2020-01-27/
LOCATION:PA
END:VEVENT
BEGIN:VEVENT
DTSTART;TZID=America/New_York:20200108T140000
DTEND;TZID=America/New_York:20200108T160000
DTSTAMP:20260419T174815
CREATED:20171228T011737Z
LAST-MODIFIED:20181129T211616Z
UID:10000230-1578492000-1578499200@manortownship.net
SUMMARY:Zoning Hearing Board Meeting
DESCRIPTION:
URL:https://manortownship.net/event/zoning-hearing-board-meeting-2020-01-01/
LOCATION:Manor Township Municipal Building\, 950 West Fairway Drive\, Lancaster\, PA\, 17603\, United States
GEO:40.0264075;-76.3654509
X-APPLE-STRUCTURED-LOCATION;VALUE=URI;X-ADDRESS=Manor Township Municipal Building 950 West Fairway Drive Lancaster PA 17603 United States;X-APPLE-RADIUS=500;X-TITLE=950 West Fairway Drive:geo:-76.3654509,40.0264075
END:VEVENT
BEGIN:VEVENT
DTSTART;TZID=America/New_York:20200106T140000
DTEND;TZID=America/New_York:20200106T160000
DTSTAMP:20260419T174815
CREATED:20171228T010631Z
LAST-MODIFIED:20191218T202010Z
UID:10000209-1578319200-1578326400@manortownship.net
SUMMARY:Supervisors Meeting
DESCRIPTION:
URL:https://manortownship.net/event/supervisors-meeting-13-2020-01-06/
LOCATION:Manor Township Municipal Building\, 950 West Fairway Drive\, Lancaster\, PA\, 17603\, United States
GEO:40.0264075;-76.3654509
X-APPLE-STRUCTURED-LOCATION;VALUE=URI;X-ADDRESS=Manor Township Municipal Building 950 West Fairway Drive Lancaster PA 17603 United States;X-APPLE-RADIUS=500;X-TITLE=950 West Fairway Drive:geo:-76.3654509,40.0264075
END:VEVENT
BEGIN:VEVENT
DTSTART;TZID=America/New_York:20191225T030000
DTEND;TZID=America/New_York:20191225T120000
DTSTAMP:20260419T174815
CREATED:20181129T214133Z
LAST-MODIFIED:20181129T214133Z
UID:10000346-1577242800-1577275200@manortownship.net
SUMMARY:Office Closed-Merry Christmas
DESCRIPTION:
URL:https://manortownship.net/event/office-closed-merry-christmas-2/
LOCATION:PA
END:VEVENT
BEGIN:VEVENT
DTSTART;TZID=America/New_York:20191204T140000
DTEND;TZID=America/New_York:20191204T160000
DTSTAMP:20260419T174815
CREATED:20171228T011737Z
LAST-MODIFIED:20191118T204704Z
UID:10000229-1575468000-1575475200@manortownship.net
SUMMARY:Zoning Hearing Board Meeting - CANCELLED
DESCRIPTION:
URL:https://manortownship.net/event/zoning-hearing-board-meeting-2019-12-04/
LOCATION:Manor Township Municipal Building\, 950 West Fairway Drive\, Lancaster\, PA\, 17603\, United States
GEO:40.0264075;-76.3654509
X-APPLE-STRUCTURED-LOCATION;VALUE=URI;X-ADDRESS=Manor Township Municipal Building 950 West Fairway Drive Lancaster PA 17603 United States;X-APPLE-RADIUS=500;X-TITLE=950 West Fairway Drive:geo:-76.3654509,40.0264075
END:VEVENT
BEGIN:VEVENT
DTSTART;TZID=America/New_York:20191202T140000
DTEND;TZID=America/New_York:20191202T160000
DTSTAMP:20260419T174815
CREATED:20181129T211104Z
LAST-MODIFIED:20181129T211104Z
UID:10000313-1575295200-1575302400@manortownship.net
SUMMARY:Supervisors Meeting
DESCRIPTION:
URL:https://manortownship.net/event/supervisors-meeting-14/2019-12-02/
LOCATION:PA
END:VEVENT
BEGIN:VEVENT
DTSTART;TZID=America/New_York:20191128T030000
DTEND;TZID=America/New_York:20191129T120000
DTSTAMP:20260419T174815
CREATED:20181129T214033Z
LAST-MODIFIED:20181129T214033Z
UID:10000345-1574910000-1575028800@manortownship.net
SUMMARY:Office Closed-Happy Thanksgiving
DESCRIPTION:
URL:https://manortownship.net/event/office-closed-happy-thanksgiving-2/
LOCATION:PA
END:VEVENT
BEGIN:VEVENT
DTSTART;TZID=America/New_York:20191111T140000
DTEND;TZID=America/New_York:20191111T160000
DTSTAMP:20260419T174815
CREATED:20171228T011955Z
LAST-MODIFIED:20191028T220107Z
UID:10000245-1573480800-1573488000@manortownship.net
SUMMARY:Planning Commission Meeting-CANCELLED
DESCRIPTION:
URL:https://manortownship.net/event/planning-commission-meeting-2-2019-11-11/
LOCATION:Manor Township Municipal Building\, 950 West Fairway Drive\, Lancaster\, PA\, 17603\, United States
GEO:40.0264075;-76.3654509
X-APPLE-STRUCTURED-LOCATION;VALUE=URI;X-ADDRESS=Manor Township Municipal Building 950 West Fairway Drive Lancaster PA 17603 United States;X-APPLE-RADIUS=500;X-TITLE=950 West Fairway Drive:geo:-76.3654509,40.0264075
END:VEVENT
BEGIN:VEVENT
DTSTART;TZID=America/New_York:20191107T140000
DTEND;TZID=America/New_York:20191107T160000
DTSTAMP:20260419T174815
CREATED:20181129T211104Z
LAST-MODIFIED:20181129T211243Z
UID:10000314-1573135200-1573142400@manortownship.net
SUMMARY:Supervisors Meeting
DESCRIPTION:
URL:https://manortownship.net/event/supervisors-meeting-14-2019-11-04/
LOCATION:PA
END:VEVENT
BEGIN:VEVENT
DTSTART;TZID=America/New_York:20191106T140000
DTEND;TZID=America/New_York:20191106T160000
DTSTAMP:20260419T174815
CREATED:20171228T011737Z
LAST-MODIFIED:20191028T220304Z
UID:10000228-1573048800-1573056000@manortownship.net
SUMMARY:Zoning Hearing Board Meeting-CANCELLED
DESCRIPTION:
URL:https://manortownship.net/event/zoning-hearing-board-meeting-2019-11-06/
LOCATION:Manor Township Municipal Building\, 950 West Fairway Drive\, Lancaster\, PA\, 17603\, United States
GEO:40.0264075;-76.3654509
X-APPLE-STRUCTURED-LOCATION;VALUE=URI;X-ADDRESS=Manor Township Municipal Building 950 West Fairway Drive Lancaster PA 17603 United States;X-APPLE-RADIUS=500;X-TITLE=950 West Fairway Drive:geo:-76.3654509,40.0264075
END:VEVENT
BEGIN:VEVENT
DTSTART;TZID=America/New_York:20191028T150000
DTEND;TZID=America/New_York:20191028T170000
DTSTAMP:20260419T174815
CREATED:20181129T212758Z
LAST-MODIFIED:20191009T180626Z
UID:10000333-1572274800-1572282000@manortownship.net
SUMMARY:Park & Recreation Meeting - CANCELLED
DESCRIPTION:
URL:https://manortownship.net/event/park-recreation-meeting-6-2019-10-28/
LOCATION:PA
END:VEVENT
BEGIN:VEVENT
DTSTART;TZID=America/New_York:20191015T150000
DTEND;TZID=America/New_York:20191015T170000
DTSTAMP:20260419T174815
CREATED:20171228T011955Z
LAST-MODIFIED:20181129T211937Z
UID:10000244-1571151600-1571158800@manortownship.net
SUMMARY:Planning Commission Meeting
DESCRIPTION:
URL:https://manortownship.net/event/planning-commission-meeting-2-2019-10-14/
LOCATION:Manor Township Municipal Building\, 950 West Fairway Drive\, Lancaster\, PA\, 17603\, United States
GEO:40.0264075;-76.3654509
X-APPLE-STRUCTURED-LOCATION;VALUE=URI;X-ADDRESS=Manor Township Municipal Building 950 West Fairway Drive Lancaster PA 17603 United States;X-APPLE-RADIUS=500;X-TITLE=950 West Fairway Drive:geo:-76.3654509,40.0264075
END:VEVENT
BEGIN:VEVENT
DTSTART;TZID=America/New_York:20191014T040000
DTEND;TZID=America/New_York:20191014T130000
DTSTAMP:20260419T174815
CREATED:20181129T213926Z
LAST-MODIFIED:20181129T213926Z
UID:10000344-1571025600-1571058000@manortownship.net
SUMMARY:Office Closed-Columbus Day
DESCRIPTION:
URL:https://manortownship.net/event/office-closed-columbus-day-2/
LOCATION:PA
END:VEVENT
BEGIN:VEVENT
DTSTART;TZID=America/New_York:20191007T150000
DTEND;TZID=America/New_York:20191007T170000
DTSTAMP:20260419T174815
CREATED:20181129T211104Z
LAST-MODIFIED:20181129T211104Z
UID:10000312-1570460400-1570467600@manortownship.net
SUMMARY:Supervisors Meeting
DESCRIPTION:
URL:https://manortownship.net/event/supervisors-meeting-14/2019-10-07/
LOCATION:PA
END:VEVENT
BEGIN:VEVENT
DTSTART;TZID=America/New_York:20191002T150000
DTEND;TZID=America/New_York:20191002T170000
DTSTAMP:20260419T174815
CREATED:20171228T011737Z
LAST-MODIFIED:20210308T165850Z
UID:10000227-1570028400-1570035600@manortownship.net
SUMMARY:Zoning Hearing Board Meeting
DESCRIPTION:
URL:https://manortownship.net/event/zoning-hearing-board-meeting-2019-10-02/
LOCATION:Manor Township Municipal Building\, 950 West Fairway Drive\, Lancaster\, PA\, 17603\, United States
GEO:40.0264075;-76.3654509
X-APPLE-STRUCTURED-LOCATION;VALUE=URI;X-ADDRESS=Manor Township Municipal Building 950 West Fairway Drive Lancaster PA 17603 United States;X-APPLE-RADIUS=500;X-TITLE=950 West Fairway Drive:geo:-76.3654509,40.0264075
END:VEVENT
BEGIN:VEVENT
DTSTART;TZID=America/New_York:20190903T150000
DTEND;TZID=America/New_York:20190903T170000
DTSTAMP:20260419T174815
CREATED:20171228T010631Z
LAST-MODIFIED:20181129T210732Z
UID:10000208-1567522800-1567530000@manortownship.net
SUMMARY:Supervisors Meeting
DESCRIPTION:
URL:https://manortownship.net/event/supervisors-meeting-13-2019-09-02/
LOCATION:Manor Township Municipal Building\, 950 West Fairway Drive\, Lancaster\, PA\, 17603\, United States
GEO:40.0264075;-76.3654509
X-APPLE-STRUCTURED-LOCATION;VALUE=URI;X-ADDRESS=Manor Township Municipal Building 950 West Fairway Drive Lancaster PA 17603 United States;X-APPLE-RADIUS=500;X-TITLE=950 West Fairway Drive:geo:-76.3654509,40.0264075
END:VEVENT
BEGIN:VEVENT
DTSTART;TZID=America/New_York:20190902T040000
DTEND;TZID=America/New_York:20190902T130000
DTSTAMP:20260419T174815
CREATED:20181129T213816Z
LAST-MODIFIED:20181129T213816Z
UID:10000343-1567396800-1567429200@manortownship.net
SUMMARY:Office Closed-Labor Day
DESCRIPTION:
URL:https://manortownship.net/event/office-closed-labor-day-2/
LOCATION:PA
END:VEVENT
BEGIN:VEVENT
DTSTART;TZID=America/New_York:20190805T150000
DTEND;TZID=America/New_York:20190805T170000
DTSTAMP:20260419T174815
CREATED:20171228T010631Z
LAST-MODIFIED:20190731T194205Z
UID:10000207-1565017200-1565024400@manortownship.net
SUMMARY:Supervisors Meeting-CANCELLED
DESCRIPTION:
URL:https://manortownship.net/event/supervisors-meeting-13-2019-08-05/
LOCATION:Manor Township Municipal Building\, 950 West Fairway Drive\, Lancaster\, PA\, 17603\, United States
GEO:40.0264075;-76.3654509
X-APPLE-STRUCTURED-LOCATION;VALUE=URI;X-ADDRESS=Manor Township Municipal Building 950 West Fairway Drive Lancaster PA 17603 United States;X-APPLE-RADIUS=500;X-TITLE=950 West Fairway Drive:geo:-76.3654509,40.0264075
END:VEVENT
BEGIN:VEVENT
DTSTART;TZID=America/New_York:20190722T150000
DTEND;TZID=America/New_York:20190722T170000
DTSTAMP:20260419T174815
CREATED:20181129T212758Z
LAST-MODIFIED:20190716T172403Z
UID:10000332-1563807600-1563814800@manortownship.net
SUMMARY:Park & Recreation Meeting-CANCELLED
DESCRIPTION:
URL:https://manortownship.net/event/park-recreation-meeting-6-2019-07-22/
LOCATION:PA
END:VEVENT
END:VCALENDAR